BEGIN:VCALENDAR
VERSION:2.0
PRODID:-//Portal Pendidikan Pengundi - ECPv5.6.0//NONSGML v1.0//EN
CALSCALE:GREGORIAN
METHOD:PUBLISH
X-WR-CALNAME:Portal Pendidikan Pengundi
X-ORIGINAL-URL:https://votereducation.spr.gov.my
X-WR-CALDESC:Events for Portal Pendidikan Pengundi
BEGIN:VTIMEZONE
TZID:Asia/Kuala_Lumpur
BEGIN:STANDARD
TZOFFSETFROM:+0800
TZOFFSETTO:+0800
TZNAME:+08
DTSTART:20180101T000000
END:STANDARD
END:VTIMEZONE
BEGIN:VEVENT
DTSTART;TZID=Asia/Kuala_Lumpur:20180127T083000
DTEND;TZID=Asia/Kuala_Lumpur:20180127T140000
DTSTAMP:20260426T122407
CREATED:20180911T061257Z
LAST-MODIFIED:20180911T061257Z
UID:7940-1517041800-1517061600@votereducation.spr.gov.my
SUMMARY:Latihan -  Ejen Parti Politik
DESCRIPTION:PENCERAMAHEn. Zamri Mohd JalilEn. Ammar Soufwan MorazukiPEMBANTU PENCERAMAHPn. Nurul Mashitah Roslan Cik Siti Nor HafizaMat Hussain Cik Fatin Adiba Mohamad Prim Nasir En. Faizul Fahsyar Maharidan
URL:https://votereducation.spr.gov.my/event/latihan-ejen-parti-politik-2/
END:VEVENT
BEGIN:VEVENT
DTSTART;TZID=Asia/Kuala_Lumpur:20180127T083000
DTEND;TZID=Asia/Kuala_Lumpur:20180127T140000
DTSTAMP:20260426T122407
CREATED:20180911T061256Z
LAST-MODIFIED:20180911T061256Z
UID:7938-1517041800-1517061600@votereducation.spr.gov.my
SUMMARY:Latihan - Ejen Parti Politik BN
DESCRIPTION:PENCERAMAHEn. Hasanul Isyraf NaimEn. Nik Aminudin Nik Shahar Shah-PembantuPEMBANTU PENCERAMAHPn.Wan Samsuhaida SamsudinCik Adeline Alvina NokiatEn. Mohamad Zabadi Baharuddin En. Muhamad Zakirin Daud
URL:https://votereducation.spr.gov.my/event/latihan-ejen-parti-politik-bn/
END:VEVENT
BEGIN:VEVENT
DTSTART;TZID=Asia/Kuala_Lumpur:20180126T083000
DTEND;TZID=Asia/Kuala_Lumpur:20180126T120000
DTSTAMP:20260426T122407
CREATED:20180911T061256Z
LAST-MODIFIED:20180911T061256Z
UID:7937-1516955400-1516968000@votereducation.spr.gov.my
SUMMARY:Latihan - Media
DESCRIPTION:PENCERAMAHPn. Khadijah IshakPuan Aina Osman – PembantuPEMBANTU PENCERAMAHPn. Nurul Mashitah RoslanCik Adeline Alvina NokiatEn. Mohamad Zabadi BaharuddinEn. Muhamad Zakirin Daud
URL:https://votereducation.spr.gov.my/event/latihan-media-2/
END:VEVENT
BEGIN:VEVENT
DTSTART;TZID=Asia/Kuala_Lumpur:20180126T000000
DTEND;TZID=Asia/Kuala_Lumpur:20180127T000000
DTSTAMP:20260426T122407
CREATED:20180911T061255Z
LAST-MODIFIED:20180911T061255Z
UID:7936-1516924800-1517011200@votereducation.spr.gov.my
SUMMARY:Pemerharti Pilihan Raya IPG
DESCRIPTION:IPGK TEKNIK (NEGERI SEMBILAN)PENCERAMAHPn.Norlinah Jamman Pn. Shamsiah Chee Ros  PEMBANTU PENCERAMAHPn. Azizah Ahmad Pn.Nazrin Alis  IPGK PERLISPENCERAMAHEn. Abdul Fatah Mohd Pilus PEMBANTU PENCERAMAHEn. Halizul Halim
URL:https://votereducation.spr.gov.my/event/pemerharti-pilihan-raya-ipg/
END:VEVENT
BEGIN:VEVENT
DTSTART;TZID=Asia/Kuala_Lumpur:20180125T090000
DTEND;TZID=Asia/Kuala_Lumpur:20180125T130000
DTSTAMP:20260426T122407
CREATED:20180911T061254Z
LAST-MODIFIED:20180911T061254Z
UID:7934-1516870800-1516885200@votereducation.spr.gov.my
SUMMARY:VE Politeknik -  Politeknik Mersing\, Johor
DESCRIPTION:PENCERAMAHEn. Zamri Mohd Jalil Pn. Shamsiah Chee Ros  PEMBANTU PENCERAMAHPn. Nurul Mashitah RoslanCik Adeline Alvina Nokiat
URL:https://votereducation.spr.gov.my/event/ve-politeknik-politeknik-mersing-johor/
END:VEVENT
BEGIN:VEVENT
DTSTART;TZID=Asia/Kuala_Lumpur:20180125T083000
DTEND;TZID=Asia/Kuala_Lumpur:20180125T140000
DTSTAMP:20260426T122407
CREATED:20180911T061254Z
LAST-MODIFIED:20180911T061254Z
UID:7933-1516869000-1516888800@votereducation.spr.gov.my
SUMMARY:Latihan - Media
DESCRIPTION:PENCERAMAHEn.Nik Aminudin Nik Shahar ShahPuan Aina OsmanPEMBANTU PENCERAMAHPn. Nor Aziah Md KassimCik Siti Nor Hafiza Mat HussainEn. Muhamad Zakirin DaudEn. Muhamad Makarimi Masling
URL:https://votereducation.spr.gov.my/event/latihan-media/
END:VEVENT
BEGIN:VEVENT
DTSTART;TZID=Asia/Kuala_Lumpur:20180125T000000
DTEND;TZID=Asia/Kuala_Lumpur:20180126T000000
DTSTAMP:20260426T122407
CREATED:20180911T061255Z
LAST-MODIFIED:20180911T061255Z
UID:7935-1516838400-1516924800@votereducation.spr.gov.my
SUMMARY:Pemerhati Pilihan Raya IPG
DESCRIPTION:PENCERAMAHEn. Ammar Soufwan Morazuki PEMBANTU PENCERAMAHEn. Halizul HalimEn. Mohamad Zabadi Baharuddin
URL:https://votereducation.spr.gov.my/event/pemerhati-pilihan-raya-ipg-4/
END:VEVENT
BEGIN:VEVENT
DTSTART;TZID=Asia/Kuala_Lumpur:20180124T090000
DTEND;TZID=Asia/Kuala_Lumpur:20180124T130000
DTSTAMP:20260426T122407
CREATED:20180911T061253Z
LAST-MODIFIED:20180911T061253Z
UID:7930-1516784400-1516798800@votereducation.spr.gov.my
SUMMARY:VE Politeknik -  Politeknik Sultan Mizan Zainal Abidin
DESCRIPTION:PENCERAMAHPn. Khadijah IshakPuan Aina OsmanPEMBANTU PENCERAMAHPn. Nurul Mashitah RoslanCik Adeline Alvina Nokiat
URL:https://votereducation.spr.gov.my/event/ve-politeknik-politeknik-sultan-mizan-zainal-abidin/
END:VEVENT
BEGIN:VEVENT
DTSTART;TZID=Asia/Kuala_Lumpur:20180124T083000
DTEND;TZID=Asia/Kuala_Lumpur:20180124T140000
DTSTAMP:20260426T122407
CREATED:20180911T061251Z
LAST-MODIFIED:20180911T061251Z
UID:7929-1516782600-1516802400@votereducation.spr.gov.my
SUMMARY:Latihan -  Ejen Parti Politik
DESCRIPTION:PENCERAMAHEn.Nik Aminudin Nik Shahar ShahEn. Abdul FatahMohd PilusPEMBANTU PENCERAMAHPn. Nor Aziah Md KassimCik Siti Nor Hafiza Mat HussainEn. Muhamad Zakirin DaudEn. Muhamad Makarimi Masling
URL:https://votereducation.spr.gov.my/event/latihan-ejen-parti-politik/
END:VEVENT
BEGIN:VEVENT
DTSTART;TZID=Asia/Kuala_Lumpur:20180124T083000
DTEND;TZID=Asia/Kuala_Lumpur:20180124T093000
DTSTAMP:20260426T122407
CREATED:20180911T061254Z
LAST-MODIFIED:20180911T061254Z
UID:7932-1516782600-1516786200@votereducation.spr.gov.my
SUMMARY:Latihan - PDRM
DESCRIPTION:PENCERAMAHPn.Norlinah Jamman PEMBANTU PENCERAMAHPuanNazrin Alis
URL:https://votereducation.spr.gov.my/event/latihan-pdrm/
END:VEVENT
BEGIN:VEVENT
DTSTART;TZID=Asia/Kuala_Lumpur:20180124T000000
DTEND;TZID=Asia/Kuala_Lumpur:20180125T000000
DTSTAMP:20260426T122407
CREATED:20180911T061253Z
LAST-MODIFIED:20180911T061253Z
UID:7931-1516752000-1516838400@votereducation.spr.gov.my
SUMMARY:Pemerhati Pilihan Raya IPG
DESCRIPTION:(IPGK KENINGAU)PENCERAMAHEn. Hasanul Isyraf bin NaimPEMBANTU PENCERAMAHPn.Wan Samsuhaida SamsudinCik Nurul Wahida Mohd Zain(IPGK DARUL AMAN)PENCERAMAHEn. Ammar Soufwan Morazuki PEMBANTU PENCERAMAHEn. Halizul HalimEn. Mohamad Zabadi Baharuddin  (IPGK RAJA MELEWAR)PENCERAMAHEn. Zamri Mohd Jalil PEMBANTU PENCERAMAHEn. Faizul Fahsyar Maharidan En. Mohd Azwan Mohd Azmi
URL:https://votereducation.spr.gov.my/event/pemerhati-pilihan-raya-ipg-3/
END:VEVENT
BEGIN:VEVENT
DTSTART;TZID=Asia/Kuala_Lumpur:20180123T083000
DTEND;TZID=Asia/Kuala_Lumpur:20180123T140000
DTSTAMP:20260426T122407
CREATED:20180911T061251Z
LAST-MODIFIED:20180911T061251Z
UID:7927-1516696200-1516716000@votereducation.spr.gov.my
SUMMARY:Latihan - Media (TERENGGANU)
DESCRIPTION:PENCERAMAHEn.Nik Aminudin Nik Shahar ShahEn. Abdul FatahMohd PilusPEMBANTU PENCERAMAHPn. Nurul Mashitah RoslanCik Adeline Alvina Nokiat
URL:https://votereducation.spr.gov.my/event/latihan-media-terengganu/
END:VEVENT
BEGIN:VEVENT
DTSTART;TZID=Asia/Kuala_Lumpur:20180123T083000
DTEND;TZID=Asia/Kuala_Lumpur:20180123T120000
DTSTAMP:20260426T122407
CREATED:20180911T061251Z
LAST-MODIFIED:20180911T061251Z
UID:7926-1516696200-1516708800@votereducation.spr.gov.my
SUMMARY:Latihan - Undi Pos Bomba
DESCRIPTION:PENCERAMAHPn. Norlinah binti Jamman PEMBANTU PENCERAMAHEn. Faizul Fahsyar Maharidan
URL:https://votereducation.spr.gov.my/event/latihan-undi-pos-bomba-3/
END:VEVENT
BEGIN:VEVENT
DTSTART;TZID=Asia/Kuala_Lumpur:20180123T000000
DTEND;TZID=Asia/Kuala_Lumpur:20180125T000000
DTSTAMP:20260426T122407
CREATED:20180911T061251Z
LAST-MODIFIED:20180911T061251Z
UID:7928-1516665600-1516838400@votereducation.spr.gov.my
SUMMARY:Latihan -  Taklimat Petugas PRU-14 (KTM/KP/ KMU -  423) & (PPM/KPDP/ PAPM - 326)
DESCRIPTION:23/1/2018 –  KTM\, KP/KMU (( 8.30 pg –  4.30 ptg) PENCERAMAHPuan Rafidah Arshad PEMBANTU PENCERAMAHJefri Ponen Syahira Izzati Ngadiman  24/1/2018 –  PPM/KPDP/PAPM  (8.30 pg –  1.00 tghari)PENCERAMAHPn. Shamsiah Chee Ros PEMBANTU PENCERAMAHPn. Azizah Ahmad Pn.Nazrin Alis
URL:https://votereducation.spr.gov.my/event/latihan-taklimat-petugas-pru-14-ktm-kp-kmu-423-ppm-kpdp-papm-326/
END:VEVENT
BEGIN:VEVENT
DTSTART;TZID=Asia/Kuala_Lumpur:20180122T100000
DTEND;TZID=Asia/Kuala_Lumpur:20180122T120000
DTSTAMP:20260426T122407
CREATED:20180911T061251Z
LAST-MODIFIED:20180911T061251Z
UID:7925-1516615200-1516622400@votereducation.spr.gov.my
SUMMARY:VE Agensi Kerajaan - SPRM
DESCRIPTION:PENCERAMAHTuan Azizan Md. Arshad – PUU PEMBANTU PENCERAMAHEn. Ammar Soufwan Morazuki
URL:https://votereducation.spr.gov.my/event/ve-agensi-kerajaan-sprm/
END:VEVENT
BEGIN:VEVENT
DTSTART;TZID=Asia/Kuala_Lumpur:20180122T090000
DTEND;TZID=Asia/Kuala_Lumpur:20180122T130000
DTSTAMP:20260426T122407
CREATED:20180911T061249Z
LAST-MODIFIED:20180911T061249Z
UID:7924-1516611600-1516626000@votereducation.spr.gov.my
SUMMARY:VE Media -  Kumpulan Utusan Malaysia
DESCRIPTION:PENCERAMAHEn. Hasanul Isyraf NaimPn. Khadijah IshakPEMBANTU PENCERAMAHPn.Wan Samsuhaida SamsudinCik Siti Nor Hafiza Mat Hussain   En. Halizul HalimEn. Mohamad Zabadi Baharuddin
URL:https://votereducation.spr.gov.my/event/ve-media-kumpulan-utusan-malaysia/
END:VEVENT
BEGIN:VEVENT
DTSTART;TZID=Asia/Kuala_Lumpur:20180122T083000
DTEND;TZID=Asia/Kuala_Lumpur:20180122T123000
DTSTAMP:20260426T122407
CREATED:20180911T061249Z
LAST-MODIFIED:20180911T061249Z
UID:7922-1516609800-1516624200@votereducation.spr.gov.my
SUMMARY:Latihan -  Undi Pos -  Polis Sukarelawan
DESCRIPTION:PENCERAMAHPn. Shamsiah Chee Ros PEMBANTU PENCERAMAHPn.Wan Samsuhaida Samsudin
URL:https://votereducation.spr.gov.my/event/latihan-undi-pos-polis-sukarelawan/
END:VEVENT
BEGIN:VEVENT
DTSTART;TZID=Asia/Kuala_Lumpur:20180122T083000
DTEND;TZID=Asia/Kuala_Lumpur:20180122T120000
DTSTAMP:20260426T122407
CREATED:20180911T061249Z
LAST-MODIFIED:20180911T061249Z
UID:7921-1516609800-1516622400@votereducation.spr.gov.my
SUMMARY:Latihan - Undi Pos Bomba
DESCRIPTION:PENCERAMAHEn. Zamri Mohd Jalil
URL:https://votereducation.spr.gov.my/event/latihan-undi-pos-bomba-2/
END:VEVENT
BEGIN:VEVENT
DTSTART;TZID=Asia/Kuala_Lumpur:20180122T083000
DTEND;TZID=Asia/Kuala_Lumpur:20180122T120000
DTSTAMP:20260426T122407
CREATED:20180911T061249Z
LAST-MODIFIED:20180911T061249Z
UID:7923-1516609800-1516622400@votereducation.spr.gov.my
SUMMARY:Latihan -  Undi Pos Bomba - AZIM
DESCRIPTION:PENCERAMAHEncik Azim PEMBANTU PENCERAMAHEn. Faizul Fahsyar Maharidan
URL:https://votereducation.spr.gov.my/event/latihan-undi-pos-bomba-azim/
END:VEVENT
BEGIN:VEVENT
DTSTART;TZID=Asia/Kuala_Lumpur:20180121T080000
DTEND;TZID=Asia/Kuala_Lumpur:20180121T130000
DTSTAMP:20260426T122407
CREATED:20180911T061249Z
LAST-MODIFIED:20180911T061249Z
UID:7920-1516521600-1516539600@votereducation.spr.gov.my
SUMMARY:Latihan -  Ejen Parti Politik - UMNO
DESCRIPTION:PENCERAMAHEn.Nik Aminudin Nik Shahar ShahEn. Abdul FatahMohd PilusPEMBANTU PENCERAMAHPn. Nurul Mashitah RoslanCik Adeline Alvina NokiatEn.Muhamad Zakirin Daud
URL:https://votereducation.spr.gov.my/event/latihan-ejen-parti-politik-umno-3/
END:VEVENT
BEGIN:VEVENT
DTSTART;TZID=Asia/Kuala_Lumpur:20180120T083000
DTEND;TZID=Asia/Kuala_Lumpur:20180120T140000
DTSTAMP:20260426T122407
CREATED:20180911T061247Z
LAST-MODIFIED:20180911T061247Z
UID:7918-1516437000-1516456800@votereducation.spr.gov.my
SUMMARY:Latihan - Ejen Parti Politik (PPBM\, DAP\, AMANAH\, PKR)
DESCRIPTION:PENCERAMAHPn. Khadijah IshakEn. Ammar Soufwan MorazukiPEMBANTU PENCERAMAHCik Siti Nor Hafiza Mat HussainPn.Wan Samsuhaida SamsudinEn. Halizul HalimEn. Mohamad Zabadi Baharuddin
URL:https://votereducation.spr.gov.my/event/latihan-ejen-parti-politik-ppbm-dap-amanah-pkr/
END:VEVENT
BEGIN:VEVENT
DTSTART;TZID=Asia/Kuala_Lumpur:20180120T080000
DTEND;TZID=Asia/Kuala_Lumpur:20180120T130000
DTSTAMP:20260426T122407
CREATED:20180911T061247Z
LAST-MODIFIED:20180911T061247Z
UID:7919-1516435200-1516453200@votereducation.spr.gov.my
SUMMARY:Latihan -  Ejen Parti Politik - UMNO
DESCRIPTION:PENCERAMAHEn.Nik Aminudin Nik Shahar ShahEn. Abdul FatahMohd PilusPEMBANTU PENCERAMAHPn. Nurul Mashitah RoslanCik Adeline Alvina NokiatEn.Muhamad Zakirin Daud
URL:https://votereducation.spr.gov.my/event/latihan-ejen-parti-politik-umno-2/
END:VEVENT
BEGIN:VEVENT
DTSTART;TZID=Asia/Kuala_Lumpur:20180119T083000
DTEND;TZID=Asia/Kuala_Lumpur:20180119T120000
DTSTAMP:20260426T122407
CREATED:20180911T061246Z
LAST-MODIFIED:20180911T061246Z
UID:7916-1516350600-1516363200@votereducation.spr.gov.my
SUMMARY:Latihan - Undi Pos Bomba - SHAMSIAH
DESCRIPTION:PENCERAMAHPn. Norlinah binti JammanPEMBANTU PENCERAMAHPn. Nazrin binti Alis
URL:https://votereducation.spr.gov.my/event/latihan-undi-pos-bomba-shamsiah/
END:VEVENT
BEGIN:VEVENT
DTSTART;TZID=Asia/Kuala_Lumpur:20180119T000000
DTEND;TZID=Asia/Kuala_Lumpur:20180120T000000
DTSTAMP:20260426T122407
CREATED:20180911T061247Z
LAST-MODIFIED:20180911T061247Z
UID:7917-1516320000-1516406400@votereducation.spr.gov.my
SUMMARY:Pemerhati Pilihan Raya IPG
DESCRIPTION:PENCERAMAHEn. Zamri Mohd JalilEn. Ammar Soufwan Morazuki
URL:https://votereducation.spr.gov.my/event/pemerhati-pilihan-raya-ipg-2/
END:VEVENT
BEGIN:VEVENT
DTSTART;TZID=Asia/Kuala_Lumpur:20180118T083000
DTEND;TZID=Asia/Kuala_Lumpur:20180118T103000
DTSTAMP:20260426T122407
CREATED:20180911T061243Z
LAST-MODIFIED:20180911T061243Z
UID:7914-1516264200-1516271400@votereducation.spr.gov.my
SUMMARY:VE Media -  Jabatan Penyiaran Malaysia
DESCRIPTION:PENCERAMAHEn. Zamri Mohd JalilEn. Ammar Soufwan MorazukiPEMBANTU PENCERAMAHCik Adeline Alvina NokiatCik Nurul Wahida Mohd Zain
URL:https://votereducation.spr.gov.my/event/ve-media-jabatan-penyiaran-malaysia-2/
END:VEVENT
BEGIN:VEVENT
DTSTART;TZID=Asia/Kuala_Lumpur:20180118T000000
DTEND;TZID=Asia/Kuala_Lumpur:20180120T000000
DTSTAMP:20260426T122407
CREATED:20180911T061246Z
LAST-MODIFIED:20180911T061246Z
UID:7915-1516233600-1516406400@votereducation.spr.gov.my
SUMMARY:Pemerhati Pilihan Raya IPG
DESCRIPTION:PenceramahPn.Aina OsmanPn. Shamsiah Chee Ros
URL:https://votereducation.spr.gov.my/event/pemerhati-pilihan-raya-ipg/
END:VEVENT
BEGIN:VEVENT
DTSTART;TZID=Asia/Kuala_Lumpur:20180117T083000
DTEND;TZID=Asia/Kuala_Lumpur:20180117T103000
DTSTAMP:20260426T122407
CREATED:20180911T061243Z
LAST-MODIFIED:20180911T061243Z
UID:7913-1516177800-1516185000@votereducation.spr.gov.my
SUMMARY:VE Media -  Jabatan Penyiaran Malaysia
DESCRIPTION:
URL:https://votereducation.spr.gov.my/event/ve-media-jabatan-penyiaran-malaysia/
END:VEVENT
BEGIN:VEVENT
DTSTART;TZID=Asia/Kuala_Lumpur:20180116T140000
DTEND;TZID=Asia/Kuala_Lumpur:20180116T170000
DTSTAMP:20260426T122407
CREATED:20180911T061243Z
LAST-MODIFIED:20180911T061243Z
UID:7912-1516111200-1516122000@votereducation.spr.gov.my
SUMMARY:VE Media - STAR
DESCRIPTION:
URL:https://votereducation.spr.gov.my/event/ve-media-star/
END:VEVENT
BEGIN:VEVENT
DTSTART;TZID=Asia/Kuala_Lumpur:20180116T083000
DTEND;TZID=Asia/Kuala_Lumpur:20180116T120000
DTSTAMP:20260426T122407
CREATED:20180911T061243Z
LAST-MODIFIED:20180911T061243Z
UID:7911-1516091400-1516104000@votereducation.spr.gov.my
SUMMARY:Latihan -  Undi Pos APMM
DESCRIPTION:
URL:https://votereducation.spr.gov.my/event/latihan-undi-pos-apmm-2/
END:VEVENT
BEGIN:VEVENT
DTSTART;TZID=Asia/Kuala_Lumpur:20180115T083000
DTEND;TZID=Asia/Kuala_Lumpur:20180115T120000
DTSTAMP:20260426T122407
CREATED:20180911T061243Z
LAST-MODIFIED:20180911T061243Z
UID:7910-1516005000-1516017600@votereducation.spr.gov.my
SUMMARY:Latihan -  Undi Pos APMM
DESCRIPTION:
URL:https://votereducation.spr.gov.my/event/latihan-undi-pos-apmm/
END:VEVENT
END:VCALENDAR