BEGIN:VCALENDAR
VERSION:2.0
PRODID:-//Portal Pendidikan Pengundi - ECPv5.6.0//NONSGML v1.0//EN
CALSCALE:GREGORIAN
METHOD:PUBLISH
X-WR-CALNAME:Portal Pendidikan Pengundi
X-ORIGINAL-URL:https://votereducation.spr.gov.my
X-WR-CALDESC:Events for Portal Pendidikan Pengundi
BEGIN:VTIMEZONE
TZID:Asia/Kuala_Lumpur
BEGIN:STANDARD
TZOFFSETFROM:+0800
TZOFFSETTO:+0800
TZNAME:+08
DTSTART:20180101T000000
END:STANDARD
END:VTIMEZONE
BEGIN:VEVENT
DTSTART;TZID=Asia/Kuala_Lumpur:20180327T090000
DTEND;TZID=Asia/Kuala_Lumpur:20180327T130000
DTSTAMP:20260426T085236
CREATED:20180911T061353Z
LAST-MODIFIED:20180911T061353Z
UID:8071-1522141200-1522155600@votereducation.spr.gov.my
SUMMARY:Latihan -  Undi Pos -  ARO & Petugas -  PPN Sabah
DESCRIPTION:<p class=Table_0020Grid" style="margin-top: 0pt; margin-bottom: 0pt; padding-top: 1pt; padding-bottom: 1pt; line-height: 12pt; color: rgb(0
URL:https://votereducation.spr.gov.my/event/latihan-undi-pos-aro-petugas-ppn-sabah/
END:VEVENT
BEGIN:VEVENT
DTSTART;TZID=Asia/Kuala_Lumpur:20180327T090000
DTEND;TZID=Asia/Kuala_Lumpur:20180327T103000
DTSTAMP:20260426T085236
CREATED:20180911T061354Z
LAST-MODIFIED:20180911T061354Z
UID:8073-1522141200-1522146600@votereducation.spr.gov.my
SUMMARY:Latihan -  PYB ATM -  Undi Awal & Undi Pos
DESCRIPTION:<span style=color: rgb(0
URL:https://votereducation.spr.gov.my/event/latihan-pyb-atm-undi-awal-undi-pos/
END:VEVENT
BEGIN:VEVENT
DTSTART;TZID=Asia/Kuala_Lumpur:20180327T083000
DTEND;TZID=Asia/Kuala_Lumpur:20180327T093000
DTSTAMP:20260426T085236
CREATED:20180911T061353Z
LAST-MODIFIED:20180911T061353Z
UID:8070-1522139400-1522143000@votereducation.spr.gov.my
SUMMARY:Latihan -  Taklimat Ulangan Petugas PRU-14
DESCRIPTION:Parlimen Hulu Langat &amp; Serdang (27/3) \nPn. Shamsiah Chee Ros \nParlimen Kapar &amp; Klang (27/3) \nPn.Aina Osman \nParlimen Hulu Selangor &amp; Selayang (27/3) \nEn. Ammar Soufwan Morazuki \nParlimen Sabak Bernam &amp; Sungai Besar (27/3) \nEn. Mohd Zamri Mohd Jalil \nParlimen PJ Selatan\, PJ Utara &amp; Subang (27/3) \nPn. Khadijah Ishak
URL:https://votereducation.spr.gov.my/event/latihan-taklimat-ulangan-petugas-pru-14/
END:VEVENT
BEGIN:VEVENT
DTSTART;TZID=Asia/Kuala_Lumpur:20180326T203000
DTEND;TZID=Asia/Kuala_Lumpur:20180326T230000
DTSTAMP:20260426T085236
CREATED:20180911T061352Z
LAST-MODIFIED:20180911T061352Z
UID:8067-1522096200-1522105200@votereducation.spr.gov.my
SUMMARY:Latihan -  Pegawai Pengurus PRU-14 - Simulasi PPC\, SPU & PPRU = PPN Sabah
DESCRIPTION:<p class=Table_0020Grid" style="margin-top: 0pt; margin-bottom: 0pt; padding-top: 1pt; padding-bottom: 1pt; line-height: 12pt; color: rgb(0
URL:https://votereducation.spr.gov.my/event/latihan-pegawai-pengurus-pru-14-simulasi-ppc-spu-ppru-ppn-sabah/
END:VEVENT
BEGIN:VEVENT
DTSTART;TZID=Asia/Kuala_Lumpur:20180326T140000
DTEND;TZID=Asia/Kuala_Lumpur:20180326T170000
DTSTAMP:20260426T085236
CREATED:20180911T061352Z
LAST-MODIFIED:20180911T061352Z
UID:8068-1522072800-1522083600@votereducation.spr.gov.my
SUMMARY:Latihan - PDRM
DESCRIPTION:PU :&nbsp; \n<span style=color: rgb(0
URL:https://votereducation.spr.gov.my/event/latihan-pdrm-4/
END:VEVENT
BEGIN:VEVENT
DTSTART;TZID=Asia/Kuala_Lumpur:20180322T090000
DTEND;TZID=Asia/Kuala_Lumpur:20180322T130000
DTSTAMP:20260426T085236
CREATED:20180911T061351Z
LAST-MODIFIED:20180911T061351Z
UID:8066-1521709200-1521723600@votereducation.spr.gov.my
SUMMARY:Latihan -   Pegawai  Pengurus PRU-  14  Selangor
DESCRIPTION:PenceramahEn.Nik Aminudin Nik Shahar ShahEn. Abdul FatahMohd PilusEn. Ammar Soufwan MorazukiPembantuEn. Halizul HalimEn. Mohamad Zabadi BaharuddinPn. Nurul Mashitah RoslanCik Adeline Alvina NokiatCik Siti Nor Hafiza Mat HussainPn.Wan Samsuhaida Samsudin
URL:https://votereducation.spr.gov.my/event/latihan-pegawai-pengurus-pru-14-selangor/
END:VEVENT
BEGIN:VEVENT
DTSTART;TZID=Asia/Kuala_Lumpur:20180321T090000
DTEND;TZID=Asia/Kuala_Lumpur:20180321T120000
DTSTAMP:20260426T085236
CREATED:20180911T061350Z
LAST-MODIFIED:20180911T061350Z
UID:8063-1521622800-1521633600@votereducation.spr.gov.my
SUMMARY:Latihan - PDRM  Terengganu
DESCRIPTION:PenceramahEn. Mohd Zamri Mohd JalilPembantuCik Nurul Wahida Mohd ZainCik Fatin Adiba Mohamad Prim Nasir
URL:https://votereducation.spr.gov.my/event/latihan-pdrm-terengganu-3/
END:VEVENT
BEGIN:VEVENT
DTSTART;TZID=Asia/Kuala_Lumpur:20180321T090000
DTEND;TZID=Asia/Kuala_Lumpur:20180321T120000
DTSTAMP:20260426T085236
CREATED:20180911T061350Z
LAST-MODIFIED:20180911T061350Z
UID:8064-1521622800-1521633600@votereducation.spr.gov.my
SUMMARY:Latihan -  PDRM  -  PPN Selangor  -  PPKPR
DESCRIPTION:PenceramahEn.Ahmad Naji Mohd Nawi(SUB POP)
URL:https://votereducation.spr.gov.my/event/latihan-pdrm-ppn-selangor-ppkpr/
END:VEVENT
BEGIN:VEVENT
DTSTART;TZID=Asia/Kuala_Lumpur:20180321T090000
DTEND;TZID=Asia/Kuala_Lumpur:20180321T100000
DTSTAMP:20260426T085236
CREATED:20180911T061351Z
LAST-MODIFIED:20180911T061351Z
UID:8065-1521622800-1521626400@votereducation.spr.gov.my
SUMMARY:New Event
DESCRIPTION:
URL:https://votereducation.spr.gov.my/event/new-event-5/
END:VEVENT
BEGIN:VEVENT
DTSTART;TZID=Asia/Kuala_Lumpur:20180320T090000
DTEND;TZID=Asia/Kuala_Lumpur:20180321T130000
DTSTAMP:20260426T085236
CREATED:20180911T061349Z
LAST-MODIFIED:20180911T061349Z
UID:8061-1521536400-1521637200@votereducation.spr.gov.my
SUMMARY:VE Politeknik
DESCRIPTION:TBC
URL:https://votereducation.spr.gov.my/event/ve-politeknik-7/
END:VEVENT
BEGIN:VEVENT
DTSTART;TZID=Asia/Kuala_Lumpur:20180320T090000
DTEND;TZID=Asia/Kuala_Lumpur:20180320T120000
DTSTAMP:20260426T085236
CREATED:20180911T061350Z
LAST-MODIFIED:20180911T061350Z
UID:8062-1521536400-1521547200@votereducation.spr.gov.my
SUMMARY:Latihan PDRM -   PPN Selangor -  Polis Pengiring  Selangor
DESCRIPTION:PenceramahPn. Norlinah JammanPembantuCik Siti Nor Hafiza Mat HussainPn.Wan Samsuhaida Samsudin
URL:https://votereducation.spr.gov.my/event/latihan-pdrm-ppn-selangor-polis-pengiring-selangor/
END:VEVENT
BEGIN:VEVENT
DTSTART;TZID=Asia/Kuala_Lumpur:20180319T140000
DTEND;TZID=Asia/Kuala_Lumpur:20180319T170000
DTSTAMP:20260426T085236
CREATED:20180911T061349Z
LAST-MODIFIED:20180911T061349Z
UID:8060-1521468000-1521478800@votereducation.spr.gov.my
SUMMARY:VE Media -   NSTP  Kuala  Lumpur
DESCRIPTION:PenceramahEn.Hasanul Isyraf NaimPn. Khadijah IshakPembantuEn. Halizul HalimPn. Zainur Aini AbdullahPn. Pn.Fathin Azwida Abdul WahabCik Fatin Adiba Mohamad Prim NasirPn.Wan Samsuhaida Samsudin- Semua Pegawai Yang Tiada Program Dijemput Hadir
URL:https://votereducation.spr.gov.my/event/ve-media-nstp-kuala-lumpur/
END:VEVENT
BEGIN:VEVENT
DTSTART;TZID=Asia/Kuala_Lumpur:20180315T090000
DTEND;TZID=Asia/Kuala_Lumpur:20180315T120000
DTSTAMP:20260426T085236
CREATED:20180911T061348Z
LAST-MODIFIED:20180911T061348Z
UID:8059-1521104400-1521115200@votereducation.spr.gov.my
SUMMARY:Latihan - PDRM  Sarawak
DESCRIPTION:TBC
URL:https://votereducation.spr.gov.my/event/latihan-pdrm-sarawak-3/
END:VEVENT
BEGIN:VEVENT
DTSTART;TZID=Asia/Kuala_Lumpur:20180314T090000
DTEND;TZID=Asia/Kuala_Lumpur:20180314T130000
DTSTAMP:20260426T085236
CREATED:20180911T061348Z
LAST-MODIFIED:20180911T061348Z
UID:8057-1521018000-1521032400@votereducation.spr.gov.my
SUMMARY:VE Politeknik
DESCRIPTION:-TBA-
URL:https://votereducation.spr.gov.my/event/ve-politeknik-6/
END:VEVENT
BEGIN:VEVENT
DTSTART;TZID=Asia/Kuala_Lumpur:20180314T090000
DTEND;TZID=Asia/Kuala_Lumpur:20180314T130000
DTSTAMP:20260426T085236
CREATED:20180911T061347Z
LAST-MODIFIED:20180911T061347Z
UID:8055-1521018000-1521032400@votereducation.spr.gov.my
SUMMARY:VE Politeknik
DESCRIPTION:-TBA-
URL:https://votereducation.spr.gov.my/event/ve-politeknik-4/
END:VEVENT
BEGIN:VEVENT
DTSTART;TZID=Asia/Kuala_Lumpur:20180314T090000
DTEND;TZID=Asia/Kuala_Lumpur:20180314T130000
DTSTAMP:20260426T085236
CREATED:20180911T061347Z
LAST-MODIFIED:20180911T061347Z
UID:8056-1521018000-1521032400@votereducation.spr.gov.my
SUMMARY:VE Politeknik
DESCRIPTION:-TBA-
URL:https://votereducation.spr.gov.my/event/ve-politeknik-5/
END:VEVENT
BEGIN:VEVENT
DTSTART;TZID=Asia/Kuala_Lumpur:20180314T090000
DTEND;TZID=Asia/Kuala_Lumpur:20180314T120000
DTSTAMP:20260426T085236
CREATED:20180911T061348Z
LAST-MODIFIED:20180911T061348Z
UID:8058-1521018000-1521028800@votereducation.spr.gov.my
SUMMARY:Latihan - PDRM  Sarawak
DESCRIPTION:TBC
URL:https://votereducation.spr.gov.my/event/latihan-pdrm-sarawak-2/
END:VEVENT
BEGIN:VEVENT
DTSTART;TZID=Asia/Kuala_Lumpur:20180313T090000
DTEND;TZID=Asia/Kuala_Lumpur:20180313T120000
DTSTAMP:20260426T085236
CREATED:20180911T061346Z
LAST-MODIFIED:20180911T061346Z
UID:8054-1520931600-1520942400@votereducation.spr.gov.my
SUMMARY:Latihan - PDRM  Sarawak
DESCRIPTION:TBC
URL:https://votereducation.spr.gov.my/event/latihan-pdrm-sarawak/
END:VEVENT
BEGIN:VEVENT
DTSTART;TZID=Asia/Kuala_Lumpur:20180313T080000
DTEND;TZID=Asia/Kuala_Lumpur:20180313T160000
DTSTAMP:20260426T085236
CREATED:20180911T061345Z
LAST-MODIFIED:20180911T061345Z
UID:8053-1520928000-1520956800@votereducation.spr.gov.my
SUMMARY:Latihan - PLKN Sabah
DESCRIPTION:TBC
URL:https://votereducation.spr.gov.my/event/latihan-plkn-sabah/
END:VEVENT
BEGIN:VEVENT
DTSTART;TZID=Asia/Kuala_Lumpur:20180312T090000
DTEND;TZID=Asia/Kuala_Lumpur:20180312T130000
DTSTAMP:20260426T085236
CREATED:20180911T061345Z
LAST-MODIFIED:20180911T061345Z
UID:8050-1520845200-1520859600@votereducation.spr.gov.my
SUMMARY:VE Politeknik
DESCRIPTION:-TBC-
URL:https://votereducation.spr.gov.my/event/ve-politeknik-3/
END:VEVENT
BEGIN:VEVENT
DTSTART;TZID=Asia/Kuala_Lumpur:20180312T090000
DTEND;TZID=Asia/Kuala_Lumpur:20180312T120000
DTSTAMP:20260426T085236
CREATED:20180911T061345Z
LAST-MODIFIED:20180911T061345Z
UID:8052-1520845200-1520856000@votereducation.spr.gov.my
SUMMARY:Latihan - PDRM  Selangor
DESCRIPTION:PenceramahEn. Mohd Zamri Mohd JalilPembantuPn.Azizah AhmadPn.Nazrin Alis
URL:https://votereducation.spr.gov.my/event/latihan-pdrm-selangor-2/
END:VEVENT
BEGIN:VEVENT
DTSTART;TZID=Asia/Kuala_Lumpur:20180312T080000
DTEND;TZID=Asia/Kuala_Lumpur:20180315T140000
DTSTAMP:20260426T085236
CREATED:20180911T061345Z
LAST-MODIFIED:20180911T061345Z
UID:8051-1520841600-1521122400@votereducation.spr.gov.my
SUMMARY:Latihan -  Taklimat Ulangan Petugas PRU -14 (NEGERI SABAH) - 25 Parlimen
DESCRIPTION:Parlimen Kudat & Kota Marudu (12/3)Parlimen Kudat (13/3)Parlimen Kota Marudu (14/3)Pn. Shamsiah Chee RosPembantu: Cik Nurul Wahida Mohd ZainParlimen Labuan\, Papar\, Kkmanis\, Beaufort\, Sipitang (12/3)Parlimen Beaufort (13/3)Parlimen Sipitang (14/3)Pn.Aina OsmanPembantu: Pn. Nor Aziah Md KassimParlimen Ranau\, Keningau\, Tenom\, Pensiangan (12/3)Parlimen Keningau (13/3)Parlimen Ranau (14/3)En. Ammar Soufwan MorazukiPembantu: Pn.Wan Samsuhaida SamsudinParlimen Pensiangan (13/3)Parlimen Tenom (14/3)En. Mohd Zamri Mohd JalilPembantu: En. Mohamad Zabadi BaharuddinParlimen Beluran (13/3)Parlimen Libaran (14/3)Parlimen Batu Sapi (15/3)En.Nik Aminudin Nik Shahar ShahPembantu: Pn. Nurul Mashitah RoslanParlimen Beluran\, Libaran\, Batu Sapi\, Sandakan\, Kinabatangan (12/3) Parlimen Sandakan (13/3)Parlimen Kinabatangan (14/3)En. Abdul Fatah MohdPilusPembantu: Cik Adeline Alvina NokiatParlimen Lahad Datu\, Semporna\, Tawau\, Kalabakan (12/3)Parlimen Lahad Datu (13/3) Parlimen Semporna (14/3)Pn. Norlinah JammanPembantu: Cik Siti Nor Hafiza Mat HussainParlimen Kalabakan (13/3)Parlimen Tawau (14/3)En.Hasanul Isyraf Naim*Taklimat Kepada Petugas2 Yang Belum Pernah Menghadiri Taklimat(KTM\, KP/KMU\, PPM\, KPDP & PAPM –  8.00 pg –  4.00 ptg)
URL:https://votereducation.spr.gov.my/event/latihan-taklimat-ulangan-petugas-pru-14-negeri-sabah-25-parlimen/
END:VEVENT
BEGIN:VEVENT
DTSTART;TZID=Asia/Kuala_Lumpur:20180311T000000
DTEND;TZID=Asia/Kuala_Lumpur:20180312T000000
DTSTAMP:20260426T085236
CREATED:20180911T061343Z
LAST-MODIFIED:20180911T061343Z
UID:8048-1520726400-1520812800@votereducation.spr.gov.my
SUMMARY:Latihan - PDRM  Terengganu
DESCRIPTION:PenceramahPn. Shamsiah Chee RosPembantuCik Nurul Wahida Mohd ZainPn. Noor Ashikin Aminuddin
URL:https://votereducation.spr.gov.my/event/latihan-pdrm-terengganu-2/
END:VEVENT
BEGIN:VEVENT
DTSTART;TZID=Asia/Kuala_Lumpur:20180311T000000
DTEND;TZID=Asia/Kuala_Lumpur:20180312T000000
DTSTAMP:20260426T085236
CREATED:20180911T061343Z
LAST-MODIFIED:20180911T061343Z
UID:8049-1520726400-1520812800@votereducation.spr.gov.my
SUMMARY:Latihan -  Parti  Politik - UMNO  Melaka
DESCRIPTION:PenceramahEn.Nik Aminudin Nik Shahar ShahEn. Abdul FatahMohd PilusPembantuPn. Nurul Mashitah RoslanCik Adeline AlvinaNokiatEn. Halizul HalimEn. Muhamad Zakirin Daud
URL:https://votereducation.spr.gov.my/event/latihan-parti-politik-umno-melaka/
END:VEVENT
BEGIN:VEVENT
DTSTART;TZID=Asia/Kuala_Lumpur:20180308T090000
DTEND;TZID=Asia/Kuala_Lumpur:20180308T130000
DTSTAMP:20260426T085236
CREATED:20180911T061343Z
LAST-MODIFIED:20180911T061343Z
UID:8045-1520499600-1520514000@votereducation.spr.gov.my
SUMMARY:VE Politeknik -   Politeknik  Metro Kuantan  Pahang
DESCRIPTION:PenceramahPn. Khadijah IshakPn. Aina OsmanPembantuCik Nurul Wahida Mohd ZainCik Fatin Adiba Mohamad Prim Nasir
URL:https://votereducation.spr.gov.my/event/ve-politeknik-politeknik-metro-kuantan-pahang/
END:VEVENT
BEGIN:VEVENT
DTSTART;TZID=Asia/Kuala_Lumpur:20180308T090000
DTEND;TZID=Asia/Kuala_Lumpur:20180308T130000
DTSTAMP:20260426T085236
CREATED:20180911T061341Z
LAST-MODIFIED:20180911T061341Z
UID:8043-1520499600-1520514000@votereducation.spr.gov.my
SUMMARY:VE Politeknik
DESCRIPTION:-TBC-
URL:https://votereducation.spr.gov.my/event/ve-politeknik-2/
END:VEVENT
BEGIN:VEVENT
DTSTART;TZID=Asia/Kuala_Lumpur:20180308T090000
DTEND;TZID=Asia/Kuala_Lumpur:20180308T130000
DTSTAMP:20260426T085236
CREATED:20180911T061341Z
LAST-MODIFIED:20180911T061341Z
UID:8044-1520499600-1520514000@votereducation.spr.gov.my
SUMMARY:Latihan -   Pegawai  Pengurus PRU-  14  Kedah
DESCRIPTION:PenceramahEn.Nik Aminudin Nik Shahar ShahEn. Abdul FatahMohd PilusEn. Ammar Soufwan MorazukiPembantuEn. Halizul HalimEn. Mohamad Zabadi BaharuddinPn. Nurul Mashitah RoslanCik Adeline Alvina NokiatCik Siti Nor Hafiza Mat HussainPn.Wan Samsuhaida Samsudin
URL:https://votereducation.spr.gov.my/event/latihan-pegawai-pengurus-pru-14-kedah/
END:VEVENT
BEGIN:VEVENT
DTSTART;TZID=Asia/Kuala_Lumpur:20180308T090000
DTEND;TZID=Asia/Kuala_Lumpur:20180308T120000
DTSTAMP:20260426T085236
CREATED:20180911T061343Z
LAST-MODIFIED:20180911T061343Z
UID:8046-1520499600-1520510400@votereducation.spr.gov.my
SUMMARY:Latihan - PDRM  Sabah
DESCRIPTION:TBC
URL:https://votereducation.spr.gov.my/event/latihan-pdrm-sabah-3/
END:VEVENT
BEGIN:VEVENT
DTSTART;TZID=Asia/Kuala_Lumpur:20180307T140000
DTEND;TZID=Asia/Kuala_Lumpur:20180307T170000
DTSTAMP:20260426T085236
CREATED:20180911T061341Z
LAST-MODIFIED:20180911T061341Z
UID:8042-1520431200-1520442000@votereducation.spr.gov.my
SUMMARY:VE Media -   Kosmo  Kuala  Lumpur
DESCRIPTION:PenceramahEn.Hasanul Isyraf NaimPn. Khadijah IshakPembantuPn.Azizah AhmadPn.Nazrin AlisPn. Zainur Aini AbdullahPn. Pn.Fathin Azwida Abdul WahabCik Fatin Adiba Mohamad Prim Nasir- Semua Pegawai Yang Tiada Program Dijemput Hadir
URL:https://votereducation.spr.gov.my/event/ve-media-kosmo-kuala-lumpur/
END:VEVENT
BEGIN:VEVENT
DTSTART;TZID=Asia/Kuala_Lumpur:20180307T090000
DTEND;TZID=Asia/Kuala_Lumpur:20180307T120000
DTSTAMP:20260426T085236
CREATED:20180911T061341Z
LAST-MODIFIED:20180911T061341Z
UID:8040-1520413200-1520424000@votereducation.spr.gov.my
SUMMARY:Latihan - PDRM  Terengganu
DESCRIPTION:Penceramah Pn. Shamsiah Chee RosPembantuCik Nurul Wahida Mohd ZainPn. Noor Idahyu Ibrahim
URL:https://votereducation.spr.gov.my/event/latihan-pdrm-terengganu/
END:VEVENT
END:VCALENDAR