BEGIN:VCALENDAR
VERSION:2.0
PRODID:-//Portal Pendidikan Pengundi - ECPv5.6.0//NONSGML v1.0//EN
CALSCALE:GREGORIAN
METHOD:PUBLISH
X-WR-CALNAME:Portal Pendidikan Pengundi
X-ORIGINAL-URL:https://votereducation.spr.gov.my
X-WR-CALDESC:Events for Portal Pendidikan Pengundi
BEGIN:VTIMEZONE
TZID:Asia/Kuala_Lumpur
BEGIN:STANDARD
TZOFFSETFROM:+0800
TZOFFSETTO:+0800
TZNAME:+08
DTSTART:20180101T000000
END:STANDARD
END:VTIMEZONE
BEGIN:VEVENT
DTSTART;TZID=Asia/Kuala_Lumpur:20180415T080000
DTEND;TZID=Asia/Kuala_Lumpur:20180415T180000
DTSTAMP:20260426T003238
CREATED:20180911T061417Z
LAST-MODIFIED:20180911T061417Z
UID:8122-1523779200-1523815200@votereducation.spr.gov.my
SUMMARY:Outreach -  Gegaria Fest
DESCRIPTION:<p class=Table_0020Grid" style="margin-top: 0pt; margin-bottom: 0pt; padding-top: 1pt; padding-bottom: 1pt; line-height: 12pt; color: rgb(0
URL:https://votereducation.spr.gov.my/event/outreach-gegaria-fest/
END:VEVENT
BEGIN:VEVENT
DTSTART;TZID=Asia/Kuala_Lumpur:20180415T080000
DTEND;TZID=Asia/Kuala_Lumpur:20180415T170000
DTSTAMP:20260426T003238
CREATED:20180911T061417Z
LAST-MODIFIED:20180911T061417Z
UID:8120-1523779200-1523811600@votereducation.spr.gov.my
SUMMARY:Latihan -  Taklimat Ulangan Petugas PRU-14 -  Parlimen Kuala Kedah -  PPN Kedah
DESCRIPTION:<p class=Table_0020Grid" style="margin-top: 0pt; margin-bottom: 0pt; padding-top: 1pt; padding-bottom: 1pt; line-height: 12pt; color: rgb(0
URL:https://votereducation.spr.gov.my/event/latihan-taklimat-ulangan-petugas-pru-14-parlimen-kuala-kedah-ppn-kedah/
END:VEVENT
BEGIN:VEVENT
DTSTART;TZID=Asia/Kuala_Lumpur:20180414T080000
DTEND;TZID=Asia/Kuala_Lumpur:20180414T170000
DTSTAMP:20260426T003238
CREATED:20180911T061415Z
LAST-MODIFIED:20180911T061415Z
UID:8119-1523692800-1523725200@votereducation.spr.gov.my
SUMMARY:Latihan -  Taklimat Ulangan Petugas PRU-14 -  Parlimen Setiawangsa -  PPN Kuala Lumpur
DESCRIPTION:<p class=Table_0020Grid" style="margin-top: 0pt; margin-bottom: 0pt; padding-top: 1pt; padding-bottom: 1pt; line-height: 12pt;color: rgb(0
URL:https://votereducation.spr.gov.my/event/latihan-taklimat-ulangan-petugas-pru-14-parlimen-setiawangsa-ppn-kuala-lumpur-2/
END:VEVENT
BEGIN:VEVENT
DTSTART;TZID=Asia/Kuala_Lumpur:20180413T090000
DTEND;TZID=Asia/Kuala_Lumpur:20180413T120000
DTSTAMP:20260426T003238
CREATED:20180911T061415Z
LAST-MODIFIED:20180911T061415Z
UID:8118-1523610000-1523620800@votereducation.spr.gov.my
SUMMARY:Latihan -  Media -  Jabatan Penyiaran Perak
DESCRIPTION:<p class=Table_0020Grid" style="margin-top: 0pt; margin-bottom: 0pt; padding-top: 1pt; padding-bottom: 1pt; line-height: 12pt; color: rgb(0
URL:https://votereducation.spr.gov.my/event/latihan-media-jabatan-penyiaran-perak/
END:VEVENT
BEGIN:VEVENT
DTSTART;TZID=Asia/Kuala_Lumpur:20180413T080000
DTEND;TZID=Asia/Kuala_Lumpur:20180413T170000
DTSTAMP:20260426T003238
CREATED:20180911T061415Z
LAST-MODIFIED:20180911T061415Z
UID:8117-1523606400-1523638800@votereducation.spr.gov.my
SUMMARY:Latihan -  Taklimat Ulangan Petugas PRU-14 -  Parlimen Setiawangsa -  PPN Kuala Lumpur
DESCRIPTION:<p class=Table_0020Grid" style="margin-top: 0pt; margin-bottom: 0pt; padding-top: 1pt; padding-bottom: 1pt; line-height: 12pt; color: rgb(0
URL:https://votereducation.spr.gov.my/event/latihan-taklimat-ulangan-petugas-pru-14-parlimen-setiawangsa-ppn-kuala-lumpur/
END:VEVENT
BEGIN:VEVENT
DTSTART;TZID=Asia/Kuala_Lumpur:20180412T100000
DTEND;TZID=Asia/Kuala_Lumpur:20180412T120000
DTSTAMP:20260426T003238
CREATED:20180911T061415Z
LAST-MODIFIED:20180911T061415Z
UID:8116-1523527200-1523534400@votereducation.spr.gov.my
SUMMARY:Latihan -  Taklimat PPC & PPRU -  Parlimen Selayang & Gombak
DESCRIPTION:<td class="gen10305" width="201" style="border-width: 1pt; border-color: rgb(0
URL:https://votereducation.spr.gov.my/event/latihan-taklimat-ppc-ppru-parlimen-selayang-gombak/
END:VEVENT
BEGIN:VEVENT
DTSTART;TZID=Asia/Kuala_Lumpur:20180412T080000
DTEND;TZID=Asia/Kuala_Lumpur:20180412T170000
DTSTAMP:20260426T003238
CREATED:20180911T061415Z
LAST-MODIFIED:20180911T061415Z
UID:8115-1523520000-1523552400@votereducation.spr.gov.my
SUMMARY:Latihan -  Taklimat Ulangan Petugas PRU-14 -  Parlimen Segambut -  PPN Kuala Lumpur
DESCRIPTION:<p class=Table_0020Grid" style="margin-top: 0pt; margin-bottom: 0pt; padding-top: 1pt; padding-bottom: 1pt; line-height: 12pt; color: rgb(0
URL:https://votereducation.spr.gov.my/event/latihan-taklimat-ulangan-petugas-pru-14-parlimen-segambut-ppn-kuala-lumpur/
END:VEVENT
BEGIN:VEVENT
DTSTART;TZID=Asia/Kuala_Lumpur:20180409T080000
DTEND;TZID=Asia/Kuala_Lumpur:20180409T130000
DTSTAMP:20260426T003238
CREATED:20180911T061413Z
LAST-MODIFIED:20180911T061413Z
UID:8114-1523260800-1523278800@votereducation.spr.gov.my
SUMMARY:Latihan -  PYB  -  Undi Pos & Undi Awal -  PPn Sabah
DESCRIPTION:PU : \n\nPn.&nbsp;<span class=Table_0020Grid__Char" style="color: rgb(0
URL:https://votereducation.spr.gov.my/event/latihan-pyb-undi-pos-undi-awal-ppn-sabah-2/
END:VEVENT
BEGIN:VEVENT
DTSTART;TZID=Asia/Kuala_Lumpur:20180408T090000
DTEND;TZID=Asia/Kuala_Lumpur:20180408T130000
DTSTAMP:20260426T003238
CREATED:20180911T061413Z
LAST-MODIFIED:20180911T061413Z
UID:8112-1523178000-1523192400@votereducation.spr.gov.my
SUMMARY:Latihan -  Pegawai Pengurus PRU-14 - Simulasi PPC\, SPU & PPRU -  PPN Kelantan
DESCRIPTION:PU : \n\nEn.<span class=Table_0020Grid__Char" style="font-size: 10pt; color: rgb(0
URL:https://votereducation.spr.gov.my/event/latihan-pegawai-pengurus-pru-14-simulasi-ppc-spu-ppru-ppn-kelantan/
END:VEVENT
BEGIN:VEVENT
DTSTART;TZID=Asia/Kuala_Lumpur:20180408T080000
DTEND;TZID=Asia/Kuala_Lumpur:20180408T120000
DTSTAMP:20260426T003238
CREATED:20180911T061413Z
LAST-MODIFIED:20180911T061413Z
UID:8113-1523174400-1523188800@votereducation.spr.gov.my
SUMMARY:VE -  TV Al Hijrah
DESCRIPTION:<p class=Table_0020Grid" style="margin-top: 0pt; margin-bottom: 0pt; padding-top: 1pt; padding-bottom: 1pt; line-height: 12pt; color: rgb(0
URL:https://votereducation.spr.gov.my/event/ve-tv-al-hijrah/
END:VEVENT
BEGIN:VEVENT
DTSTART;TZID=Asia/Kuala_Lumpur:20180407T140000
DTEND;TZID=Asia/Kuala_Lumpur:20180407T170000
DTSTAMP:20260426T003238
CREATED:20180911T061413Z
LAST-MODIFIED:20180911T061413Z
UID:8111-1523109600-1523120400@votereducation.spr.gov.my
SUMMARY:Latihan -  Ejen Parti Politik -  AMANAH Negeri Selangor
DESCRIPTION:<span style=color: rgb(0
URL:https://votereducation.spr.gov.my/event/latihan-ejen-parti-politik-amanah-negeri-selangor/
END:VEVENT
BEGIN:VEVENT
DTSTART;TZID=Asia/Kuala_Lumpur:20180407T103000
DTEND;TZID=Asia/Kuala_Lumpur:20180407T123000
DTSTAMP:20260426T003238
CREATED:20180911T061412Z
LAST-MODIFIED:20180911T061412Z
UID:8110-1523097000-1523104200@votereducation.spr.gov.my
SUMMARY:Latihan -  Ejen Parti Politik -  BN Bahagian Segambut
DESCRIPTION:<span style=color: rgb(0
URL:https://votereducation.spr.gov.my/event/latihan-ejen-parti-politik-bn-bahagian-segambut/
END:VEVENT
BEGIN:VEVENT
DTSTART;TZID=Asia/Kuala_Lumpur:20180407T090000
DTEND;TZID=Asia/Kuala_Lumpur:20180407T130000
DTSTAMP:20260426T003238
CREATED:20180911T061410Z
LAST-MODIFIED:20180911T061410Z
UID:8108-1523091600-1523106000@votereducation.spr.gov.my
SUMMARY:Latihan -  Ejen Parti Politik -  BN Pasir Puteh
DESCRIPTION:PU : \n<p class=Table_0020Grid" style="margin-top: 0pt; margin-bottom: 0pt; padding-top: 1pt; padding-bottom: 1pt; line-height: 12pt; color: rgb(0
URL:https://votereducation.spr.gov.my/event/latihan-ejen-parti-politik-bn-pasir-puteh-2/
END:VEVENT
BEGIN:VEVENT
DTSTART;TZID=Asia/Kuala_Lumpur:20180407T080000
DTEND;TZID=Asia/Kuala_Lumpur:20180407T120000
DTSTAMP:20260426T003238
CREATED:20180911T061410Z
LAST-MODIFIED:20180911T061410Z
UID:8109-1523088000-1523102400@votereducation.spr.gov.my
SUMMARY:Latihan -  Ejen Parti Politik -  PPBM Langkawi
DESCRIPTION:<span style=color: rgb(0
URL:https://votereducation.spr.gov.my/event/latihan-ejen-parti-politik-ppbm-langkawi/
END:VEVENT
BEGIN:VEVENT
DTSTART;TZID=Asia/Kuala_Lumpur:20180406T210000
DTEND;TZID=Asia/Kuala_Lumpur:20180407T010000
DTSTAMP:20260426T003238
CREATED:20180911T061407Z
LAST-MODIFIED:20180911T061407Z
UID:8104-1523048400-1523062800@votereducation.spr.gov.my
SUMMARY:Latihan -  Ejen Parti Politik -  BN Pasir Puteh
DESCRIPTION:<p class=Table_0020Grid" style="margin-top: 0pt; margin-bottom: 0pt; padding-top: 1pt; padding-bottom: 1pt; line-height: 12pt; color: rgb(0
URL:https://votereducation.spr.gov.my/event/latihan-ejen-parti-politik-bn-pasir-puteh/
END:VEVENT
BEGIN:VEVENT
DTSTART;TZID=Asia/Kuala_Lumpur:20180406T203000
DTEND;TZID=Asia/Kuala_Lumpur:20180407T123000
DTSTAMP:20260426T003238
CREATED:20180911T061406Z
LAST-MODIFIED:20180911T061406Z
UID:8102-1523046600-1523104200@votereducation.spr.gov.my
SUMMARY:Latihan -  Ejen Parti Politik -  BN Machang
DESCRIPTION:<p class=Table_0020Grid" style="margin-top: 0pt; margin-bottom: 0pt; padding-top: 1pt; padding-bottom: 1pt; line-height: 12pt; color: rgb(0
URL:https://votereducation.spr.gov.my/event/latihan-ejen-parti-politik-bn-machang/
END:VEVENT
BEGIN:VEVENT
DTSTART;TZID=Asia/Kuala_Lumpur:20180406T203000
DTEND;TZID=Asia/Kuala_Lumpur:20180407T003000
DTSTAMP:20260426T003238
CREATED:20180911T061407Z
LAST-MODIFIED:20180911T061407Z
UID:8103-1523046600-1523061000@votereducation.spr.gov.my
SUMMARY:Latihan -  Ejen Parti Politik -  BN Kota Bharu
DESCRIPTION:PU : \n<p class=Table_0020Grid" style="margin-top: 0pt; margin-bottom: 0pt; padding-top: 1pt; padding-bottom: 1pt; line-height: 12pt; color: rgb(0
URL:https://votereducation.spr.gov.my/event/latihan-ejen-parti-politik-bn-kota-bharu-2/
END:VEVENT
BEGIN:VEVENT
DTSTART;TZID=Asia/Kuala_Lumpur:20180406T200000
DTEND;TZID=Asia/Kuala_Lumpur:20180407T000000
DTSTAMP:20260426T003238
CREATED:20180911T061409Z
LAST-MODIFIED:20180911T061409Z
UID:8105-1523044800-1523059200@votereducation.spr.gov.my
SUMMARY:Latihan -  Ejen Parti Politik -  BN Machang
DESCRIPTION:<p class=Table_0020Grid" style="margin-top: 0pt; margin-bottom: 0pt; padding-top: 1pt; padding-bottom: 1pt; line-height: 12pt; color: rgb(0
URL:https://votereducation.spr.gov.my/event/latihan-ejen-parti-politik-bn-machang-2/
END:VEVENT
BEGIN:VEVENT
DTSTART;TZID=Asia/Kuala_Lumpur:20180406T083000
DTEND;TZID=Asia/Kuala_Lumpur:20180406T123000
DTSTAMP:20260426T003238
CREATED:20180911T061406Z
LAST-MODIFIED:20180911T061406Z
UID:8101-1523003400-1523017800@votereducation.spr.gov.my
SUMMARY:Latihan -  Ejen Parti Politik -  BN Kota Bharu
DESCRIPTION:<p class=Table_0020Grid" style="margin-top: 0pt; margin-bottom: 0pt; padding-top: 1pt; padding-bottom: 1pt; line-height: 12pt; color: rgb(0
URL:https://votereducation.spr.gov.my/event/latihan-ejen-parti-politik-bn-kota-bharu/
END:VEVENT
BEGIN:VEVENT
DTSTART;TZID=Asia/Kuala_Lumpur:20180406T080000
DTEND;TZID=Asia/Kuala_Lumpur:20180406T170000
DTSTAMP:20260426T003238
CREATED:20180911T061409Z
LAST-MODIFIED:20180911T061409Z
UID:8106-1523001600-1523034000@votereducation.spr.gov.my
SUMMARY:Latihan -  Taklimat Ulangan Petugas PRU-14 -  Parlimen Putrajaya - PPN KL
DESCRIPTION:<p class=Table_0020Grid" style="margin-top: 0pt; margin-bottom: 0pt; padding-top: 1pt; padding-bottom: 1pt; line-height: 12pt; color: rgb(0
URL:https://votereducation.spr.gov.my/event/latihan-taklimat-ulangan-petugas-pru-14-parlimen-putrajaya-ppn-kl/
END:VEVENT
BEGIN:VEVENT
DTSTART;TZID=Asia/Kuala_Lumpur:20180406T080000
DTEND;TZID=Asia/Kuala_Lumpur:20180406T120000
DTSTAMP:20260426T003238
CREATED:20180911T061410Z
LAST-MODIFIED:20180911T061410Z
UID:8107-1523001600-1523016000@votereducation.spr.gov.my
SUMMARY:Latihan -  Ejen Parti Politik -  BN Kota Bharu
DESCRIPTION:<p class=Table_0020Grid" style="margin-top: 0pt; margin-bottom: 0pt; padding-top: 1pt; padding-bottom: 1pt; line-height: 12pt; color: rgb(0
URL:https://votereducation.spr.gov.my/event/latihan-ejen-parti-politik-bn-kota-bharu-3/
END:VEVENT
BEGIN:VEVENT
DTSTART;TZID=Asia/Kuala_Lumpur:20180405T110000
DTEND;TZID=Asia/Kuala_Lumpur:20180406T130000
DTSTAMP:20260426T003238
CREATED:20180911T061404Z
LAST-MODIFIED:20180911T061404Z
UID:8097-1522926000-1523019600@votereducation.spr.gov.my
SUMMARY:Latihan -  PYB ATM -  Undi Pos & Undi Awal
DESCRIPTION:<p class=Table_0020Grid" style="margin-top: 0pt; margin-bottom: 0pt; padding-top: 1pt; padding-bottom: 1pt; line-height: 12pt;color: rgb(0
URL:https://votereducation.spr.gov.my/event/latihan-pyb-atm-undi-pos-undi-awal-2/
END:VEVENT
BEGIN:VEVENT
DTSTART;TZID=Asia/Kuala_Lumpur:20180405T090000
DTEND;TZID=Asia/Kuala_Lumpur:20180405T130000
DTSTAMP:20260426T003238
CREATED:20180911T061405Z
LAST-MODIFIED:20180911T061405Z
UID:8099-1522918800-1522933200@votereducation.spr.gov.my
SUMMARY:Latihan -  Media -  PPN Perak
DESCRIPTION:<p class=Table_0020Grid" style="margin-top: 0pt; margin-bottom: 0pt; padding-top: 1pt; padding-bottom: 1pt; line-height: 12pt; color: rgb(0
URL:https://votereducation.spr.gov.my/event/latihan-media-ppn-perak-2/
END:VEVENT
BEGIN:VEVENT
DTSTART;TZID=Asia/Kuala_Lumpur:20180405T090000
DTEND;TZID=Asia/Kuala_Lumpur:20180405T130000
DTSTAMP:20260426T003238
CREATED:20180911T061404Z
LAST-MODIFIED:20180911T061404Z
UID:8096-1522918800-1522933200@votereducation.spr.gov.my
SUMMARY:Latihan -  Media -  PPN Perak
DESCRIPTION:<p class=Table_0020Grid" style="margin-top: 0pt; margin-bottom: 0pt; padding-top: 1pt; padding-bottom: 1pt; line-height: 12pt; color: rgb(0
URL:https://votereducation.spr.gov.my/event/latihan-media-ppn-perak/
END:VEVENT
BEGIN:VEVENT
DTSTART;TZID=Asia/Kuala_Lumpur:20180405T080000
DTEND;TZID=Asia/Kuala_Lumpur:20180406T053000
DTSTAMP:20260426T003238
CREATED:20180911T061405Z
LAST-MODIFIED:20180911T061405Z
UID:8098-1522915200-1522992600@votereducation.spr.gov.my
SUMMARY:Latihan -  Taklimat Ulangan Petugas PRU-14 -  Parlimen Bandar Tun Razak - PPN KL
DESCRIPTION:<p class=Table_0020Grid" style="margin-top: 0pt; margin-bottom: 0pt; padding-top: 1pt; padding-bottom: 1pt; line-height: 12pt;color: rgb(0
URL:https://votereducation.spr.gov.my/event/latihan-taklimat-ulangan-petugas-pru-14-parlimen-bandar-tun-razak-ppn-kl/
END:VEVENT
BEGIN:VEVENT
DTSTART;TZID=Asia/Kuala_Lumpur:20180405T080000
DTEND;TZID=Asia/Kuala_Lumpur:20180405T130000
DTSTAMP:20260426T003238
CREATED:20180911T061406Z
LAST-MODIFIED:20180911T061406Z
UID:8100-1522915200-1522933200@votereducation.spr.gov.my
SUMMARY:Taklimat Pegawai Pengurus -  PPC & PPRU -  Bahagian Rasah
DESCRIPTION:<span style=color: rgb(0
URL:https://votereducation.spr.gov.my/event/taklimat-pegawai-pengurus-ppc-ppru-bahagian-rasah/
END:VEVENT
BEGIN:VEVENT
DTSTART;TZID=Asia/Kuala_Lumpur:20180404T170000
DTEND;TZID=Asia/Kuala_Lumpur:20180404T180000
DTSTAMP:20260426T003238
CREATED:20180911T061404Z
LAST-MODIFIED:20180911T061404Z
UID:8095-1522861200-1522864800@votereducation.spr.gov.my
SUMMARY:VE -  Siaran Radio - TRAXXfm
DESCRIPTION:<td class="gen10ada" colspan="2" style="border-width: 1pt 0pt 1pt 1pt; border-color: rgb(0
URL:https://votereducation.spr.gov.my/event/ve-siaran-radio-traxxfm/
END:VEVENT
BEGIN:VEVENT
DTSTART;TZID=Asia/Kuala_Lumpur:20180404T113000
DTEND;TZID=Asia/Kuala_Lumpur:20180404T123000
DTSTAMP:20260426T003238
CREATED:20180911T061402Z
LAST-MODIFIED:20180911T061402Z
UID:8093-1522841400-1522845000@votereducation.spr.gov.my
SUMMARY:VE -  Siaran Radio -  Asyik FM
DESCRIPTION:<span style=color: rgb(0
URL:https://votereducation.spr.gov.my/event/ve-siaran-radio-asyik-fm/
END:VEVENT
BEGIN:VEVENT
DTSTART;TZID=Asia/Kuala_Lumpur:20180404T110000
DTEND;TZID=Asia/Kuala_Lumpur:20180404T130000
DTSTAMP:20260426T003238
CREATED:20180911T061402Z
LAST-MODIFIED:20180911T061402Z
UID:8094-1522839600-1522846800@votereducation.spr.gov.my
SUMMARY:Latihan -  PYB ATM -  Undi Pos & Undi Awal
DESCRIPTION:<span style=color: rgb(0
URL:https://votereducation.spr.gov.my/event/latihan-pyb-atm-undi-pos-undi-awal/
END:VEVENT
BEGIN:VEVENT
DTSTART;TZID=Asia/Kuala_Lumpur:20180404T083000
DTEND;TZID=Asia/Kuala_Lumpur:20180404T093000
DTSTAMP:20260426T003238
CREATED:20180911T061402Z
LAST-MODIFIED:20180911T061402Z
UID:8092-1522830600-1522834200@votereducation.spr.gov.my
SUMMARY:Latihan -  Pegawai Pengurus PRU-14 - Simulasi PPC\, SPU & PPRU -  PPN Selangor
DESCRIPTION:Pn.&nbsp;Norlinah Jamman (PPC) \nPn. Khadijah Ishak (PPRU) \nPn. Aina Osman (SPU) \nEn. Mohd Zamri Mohd Jalil \n \nPPU: \n<p class=Table_0020Grid" style="margin-top: 0pt; margin-bottom: 0pt; padding-top: 1pt; padding-bottom: 1pt; line-height: 12pt; color: rgb(0
URL:https://votereducation.spr.gov.my/event/latihan-pegawai-pengurus-pru-14-simulasi-ppc-spu-ppru-ppn-selangor/
END:VEVENT
END:VCALENDAR