BEGIN:VCALENDAR
VERSION:2.0
PRODID:-//Portal Pendidikan Pengundi - ECPv5.6.0//NONSGML v1.0//EN
CALSCALE:GREGORIAN
METHOD:PUBLISH
X-WR-CALNAME:Portal Pendidikan Pengundi
X-ORIGINAL-URL:https://votereducation.spr.gov.my
X-WR-CALDESC:Events for Portal Pendidikan Pengundi
BEGIN:VTIMEZONE
TZID:Asia/Kuala_Lumpur
BEGIN:STANDARD
TZOFFSETFROM:+0800
TZOFFSETTO:+0800
TZNAME:+08
DTSTART:20180101T000000
END:STANDARD
END:VTIMEZONE
BEGIN:VEVENT
DTSTART;TZID=Asia/Kuala_Lumpur:20180219T080000
DTEND;TZID=Asia/Kuala_Lumpur:20180219T130000
DTSTAMP:20260426T020206
CREATED:20180911T061324Z
LAST-MODIFIED:20180911T061324Z
UID:8003-1519027200-1519045200@votereducation.spr.gov.my
SUMMARY:Latihan - PDRM Pahang
DESCRIPTION:PenceramahEn. Zamri Mohd Jalil PembantuEn.Muhamad Zakirin Daud
URL:https://votereducation.spr.gov.my/event/latihan-pdrm-pahang/
END:VEVENT
BEGIN:VEVENT
DTSTART;TZID=Asia/Kuala_Lumpur:20180215T150000
DTEND;TZID=Asia/Kuala_Lumpur:20180215T170000
DTSTAMP:20260426T020206
CREATED:20180911T061322Z
LAST-MODIFIED:20180911T061322Z
UID:7998-1518706800-1518714000@votereducation.spr.gov.my
SUMMARY:VE -  Kolej  Profesional  MARA  Melaka
DESCRIPTION:PenceramahEn. Ammar Soufwan MorazukiPembantu PenceramahCik Nurul Wahida Mohd ZainPn. Noor Ashikin AminuddinPn. Marina Mansor
URL:https://votereducation.spr.gov.my/event/ve-kolej-profesional-mara-melaka/
END:VEVENT
BEGIN:VEVENT
DTSTART;TZID=Asia/Kuala_Lumpur:20180215T093000
DTEND;TZID=Asia/Kuala_Lumpur:20180215T163000
DTSTAMP:20260426T020206
CREATED:20180911T061322Z
LAST-MODIFIED:20180911T061322Z
UID:7996-1518687000-1518712200@votereducation.spr.gov.my
SUMMARY:LATIHAN - TAKLIMAT UNDI POS PULAU PINANG
DESCRIPTION:Penceramah:Pn.Norlinah Jamman PembantuEn. Faizul Fahsyar Maharidan Cik Siti Nor Hafiza Mat Hussain En. Mohd Azwan Mohd Azmi
URL:https://votereducation.spr.gov.my/event/latihan-taklimat-undi-pos-pulau-pinang/
END:VEVENT
BEGIN:VEVENT
DTSTART;TZID=Asia/Kuala_Lumpur:20180215T090000
DTEND;TZID=Asia/Kuala_Lumpur:20180215T123000
DTSTAMP:20260426T020206
CREATED:20180911T061322Z
LAST-MODIFIED:20180911T061322Z
UID:7997-1518685200-1518697800@votereducation.spr.gov.my
SUMMARY:Latihan -  Undi Pos -  Jab. Pendaftaran Negara Putrajaya
DESCRIPTION:Penceramah:Pn. Shamsiah Chee Ros  PembantuPn. Nazrinbinti Alis
URL:https://votereducation.spr.gov.my/event/latihan-undi-pos-jab-pendaftaran-negara-putrajaya/
END:VEVENT
BEGIN:VEVENT
DTSTART;TZID=Asia/Kuala_Lumpur:20180215T080000
DTEND;TZID=Asia/Kuala_Lumpur:20180215T170000
DTSTAMP:20260426T020206
CREATED:20180911T061322Z
LAST-MODIFIED:20180911T061322Z
UID:7999-1518681600-1518714000@votereducation.spr.gov.my
SUMMARY:Latihan -  Undi Pos - ARO Johor
DESCRIPTION:PenceramahEn.Hasanul Isyraf Naim
URL:https://votereducation.spr.gov.my/event/latihan-undi-pos-aro-johor/
END:VEVENT
BEGIN:VEVENT
DTSTART;TZID=Asia/Kuala_Lumpur:20180214T140000
DTEND;TZID=Asia/Kuala_Lumpur:20180214T170000
DTSTAMP:20260426T020206
CREATED:20180911T061320Z
LAST-MODIFIED:20180911T061320Z
UID:7994-1518616800-1518627600@votereducation.spr.gov.my
SUMMARY:VE Media -  Media Prima
DESCRIPTION:Penceramah:En.Hasanul Isyraf Naim Pn. Khadijah Ishak Pembantu:En. Halizul Halim En. Mohamad Zabadi Baharuddin Pn. Zainur Aini Abdullah Pn. Fathin Azwida Abdul Wahab
URL:https://votereducation.spr.gov.my/event/ve-media-media-prima/
END:VEVENT
BEGIN:VEVENT
DTSTART;TZID=Asia/Kuala_Lumpur:20180214T093000
DTEND;TZID=Asia/Kuala_Lumpur:20180214T120000
DTSTAMP:20260426T020206
CREATED:20180911T061319Z
LAST-MODIFIED:20180911T061319Z
UID:7991-1518600600-1518609600@votereducation.spr.gov.my
SUMMARY:Latihan Undi Pos -  APM Zon Selatan (Melaka)
DESCRIPTION:Pn. Nor Aziah Md Kassim En. Halizul Halim
URL:https://votereducation.spr.gov.my/event/latihan-undi-pos-apm-zon-selatan-melaka/
END:VEVENT
BEGIN:VEVENT
DTSTART;TZID=Asia/Kuala_Lumpur:20180214T090000
DTEND;TZID=Asia/Kuala_Lumpur:20180214T100000
DTSTAMP:20260426T020206
CREATED:20180911T061319Z
LAST-MODIFIED:20180911T061319Z
UID:7992-1518598800-1518602400@votereducation.spr.gov.my
SUMMARY:UNDI POS 9 AGENSI - APM
DESCRIPTION:PN.NORLINAH JAMMANPN.SHAMSIAH CHEE ROS
URL:https://votereducation.spr.gov.my/event/undi-pos-9-agensi-apm/
END:VEVENT
BEGIN:VEVENT
DTSTART;TZID=Asia/Kuala_Lumpur:20180214T083000
DTEND;TZID=Asia/Kuala_Lumpur:20180214T130000
DTSTAMP:20260426T020206
CREATED:20180911T061322Z
LAST-MODIFIED:20180911T061322Z
UID:7995-1518597000-1518613200@votereducation.spr.gov.my
SUMMARY:Latihan - Media Pahang
DESCRIPTION:Penceramah:En.Nik Aminudin Nik Shahar Shah En. Abdul Fatah Mohd Pilus PembantuPn. Nurul Mashitah Roslan Cik Adeline Alvina Nokiat
URL:https://votereducation.spr.gov.my/event/latihan-media-pahang/
END:VEVENT
BEGIN:VEVENT
DTSTART;TZID=Asia/Kuala_Lumpur:20180214T000000
DTEND;TZID=Asia/Kuala_Lumpur:20180215T000000
DTSTAMP:20260426T020206
CREATED:20180911T061319Z
LAST-MODIFIED:20180911T061319Z
UID:7993-1518566400-1518652800@votereducation.spr.gov.my
SUMMARY:Latihan -  Undi Pos - ARO Terengganu
DESCRIPTION:PENCERAMAH : PUAN NORLINAH JAMMAN PPU : FAIZUL FASHYAR\,SITI NOR HAFIZA\, AZWAN AZMI
URL:https://votereducation.spr.gov.my/event/latihan-undi-pos-aro-terengganu-2/
END:VEVENT
BEGIN:VEVENT
DTSTART;TZID=Asia/Kuala_Lumpur:20180213T093000
DTEND;TZID=Asia/Kuala_Lumpur:20180213T123000
DTSTAMP:20260426T020206
CREATED:20180911T061317Z
LAST-MODIFIED:20180911T061317Z
UID:7988-1518514200-1518525000@votereducation.spr.gov.my
SUMMARY:Latihan -  PYB ATM
DESCRIPTION:PPN SABAH
URL:https://votereducation.spr.gov.my/event/latihan-pyb-atm/
END:VEVENT
BEGIN:VEVENT
DTSTART;TZID=Asia/Kuala_Lumpur:20180213T093000
DTEND;TZID=Asia/Kuala_Lumpur:20180213T120000
DTSTAMP:20260426T020206
CREATED:20180911T061317Z
LAST-MODIFIED:20180911T061317Z
UID:7985-1518514200-1518523200@votereducation.spr.gov.my
SUMMARY:TAKLIMAT UNDI POS 9 AGENSI - APM KL
DESCRIPTION:Penceramah : CIK YUS Pembantu : Nor Aziah Md KassimEn. Halizul Halim
URL:https://votereducation.spr.gov.my/event/taklimat-undi-pos-9-agensi-apm-kl/
END:VEVENT
BEGIN:VEVENT
DTSTART;TZID=Asia/Kuala_Lumpur:20180213T090000
DTEND;TZID=Asia/Kuala_Lumpur:20180213T100000
DTSTAMP:20260426T020206
CREATED:20180911T061319Z
LAST-MODIFIED:20180911T061319Z
UID:7990-1518512400-1518516000@votereducation.spr.gov.my
SUMMARY:New Event
DESCRIPTION:
URL:https://votereducation.spr.gov.my/event/new-event-4/
END:VEVENT
BEGIN:VEVENT
DTSTART;TZID=Asia/Kuala_Lumpur:20180213T080000
DTEND;TZID=Asia/Kuala_Lumpur:20180213T160000
DTSTAMP:20260426T020206
CREATED:20180911T061317Z
LAST-MODIFIED:20180911T061317Z
UID:7986-1518508800-1518537600@votereducation.spr.gov.my
SUMMARY:Latihan - PLKN
DESCRIPTION:Penceramah :En. Zamri Mohd Jalil Pembantu : En. Halizul Halim                      En. Mohamad Zabadi Baharuddin          En. Faizul Fahsyar Maharidan                      En. MohdAzwan Mohd Azmi
URL:https://votereducation.spr.gov.my/event/latihan-plkn-2/
END:VEVENT
BEGIN:VEVENT
DTSTART;TZID=Asia/Kuala_Lumpur:20180213T000000
DTEND;TZID=Asia/Kuala_Lumpur:20180214T000000
DTSTAMP:20260426T020206
CREATED:20180911T061317Z
LAST-MODIFIED:20180911T061317Z
UID:7987-1518480000-1518566400@votereducation.spr.gov.my
SUMMARY:Latihan -  Taklimat Ulangan Petugas PRU-14 (Negeri Terengganu)
DESCRIPTION:Parlimen Setiu Penceramah : En. Ammar Soufwan Morazuki Pembantu: Cik Adeline Alvina Nokiat                     Pn. Nurul Mashitah Roslan
URL:https://votereducation.spr.gov.my/event/latihan-taklimat-ulangan-petugas-pru-14-negeri-terengganu-2/
END:VEVENT
BEGIN:VEVENT
DTSTART;TZID=Asia/Kuala_Lumpur:20180213T000000
DTEND;TZID=Asia/Kuala_Lumpur:20180214T000000
DTSTAMP:20260426T020206
CREATED:20180911T061317Z
LAST-MODIFIED:20180911T061317Z
UID:7989-1518480000-1518566400@votereducation.spr.gov.my
SUMMARY:Latihan -  Undi Pos - ARO Terengganu
DESCRIPTION:PPU : FAIZUL FASHYAR\, SITI NOR HAFIZA\, AZWAN AZMI
URL:https://votereducation.spr.gov.my/event/latihan-undi-pos-aro-terengganu/
END:VEVENT
BEGIN:VEVENT
DTSTART;TZID=Asia/Kuala_Lumpur:20180213T000000
DTEND;TZID=Asia/Kuala_Lumpur:20180214T000000
DTSTAMP:20260426T020206
CREATED:20180911T061315Z
LAST-MODIFIED:20180911T061315Z
UID:7984-1518480000-1518566400@votereducation.spr.gov.my
SUMMARY:Pemerhati Pilihan Raya IPG  (Batu Lintang & Rajang)
DESCRIPTION:– TIADA WAKIL APR-
URL:https://votereducation.spr.gov.my/event/pemerhati-pilihan-raya-ipg-batu-lintang-rajang/
END:VEVENT
BEGIN:VEVENT
DTSTART;TZID=Asia/Kuala_Lumpur:20180212T083000
DTEND;TZID=Asia/Kuala_Lumpur:20180213T170000
DTSTAMP:20260426T020206
CREATED:20180911T061315Z
LAST-MODIFIED:20180911T061315Z
UID:7981-1518424200-1518541200@votereducation.spr.gov.my
SUMMARY:Latihan -  Taklimat Ulangan PRU-14 (Negeri Pahang )
DESCRIPTION:Parlimen Cameron Highlands Penceramah : En.Hasanul Isyraf Naim Parlimen Bera Penceramah: Pn.Norlinah Jamman Pembantu: En. Faizul Fahsyar Maharidan                     Cik Siti Nor Hafiza Mat Hussain                     En. Mohd Azwan Mohd Azmiberaktm 117 kp 21ppm 29 papm 10 kpdp 5pos 16
URL:https://votereducation.spr.gov.my/event/latihan-taklimat-ulangan-pru-14-negeri-pahang/
END:VEVENT
BEGIN:VEVENT
DTSTART;TZID=Asia/Kuala_Lumpur:20180212T080000
DTEND;TZID=Asia/Kuala_Lumpur:20180212T130000
DTSTAMP:20260426T020206
CREATED:20180911T061315Z
LAST-MODIFIED:20180911T061315Z
UID:7983-1518422400-1518440400@votereducation.spr.gov.my
SUMMARY:Latihan - PDRM Pahang ( TANGGUH )
DESCRIPTION:
URL:https://votereducation.spr.gov.my/event/latihan-pdrm-pahang-tangguh/
END:VEVENT
BEGIN:VEVENT
DTSTART;TZID=Asia/Kuala_Lumpur:20180212T000000
DTEND;TZID=Asia/Kuala_Lumpur:20180213T000000
DTSTAMP:20260426T020206
CREATED:20180911T061315Z
LAST-MODIFIED:20180911T061315Z
UID:7982-1518393600-1518480000@votereducation.spr.gov.my
SUMMARY:Latihan -  Taklimat Ulangan Petugas PRU-14 (Negeri Kelantan)
DESCRIPTION:Parlimen Tumpat Penceramah :Pn.Khadijah Ishak Pembantu: Pn. Nor Aziah Md Kassim Parlimen Kota Bharu Penceramah: Pn. Shamsiah Chee Ros Pembantu: Pn. Nurul Mashitah Roslan Parlimen Bachok Penceramah:Pn.Aina Osman Pembantu:Pn.Norliza Md. Nor Parlimen KeterehPenceramah: En.Nik Aminudin Nik Shahar Shah Pembantu: Cik AdelineAlvina Nokiat Parlimen Tanah Merah Penceramah : En. Ammar SoufwanMorazuki Pembantu: Pn.Wan Samsuhaida Samsudin Parlimen Pasir Puteh Penceramah: En. Abdul Fatah Pilus Pembantu: En. Halizul Halim Parlimen Jeli Penceramah: En. Zamri Mohd Jalil Pembantu: En.Muhamad Zakirin Daud
URL:https://votereducation.spr.gov.my/event/latihan-taklimat-ulangan-petugas-pru-14-negeri-kelantan/
END:VEVENT
BEGIN:VEVENT
DTSTART;TZID=Asia/Kuala_Lumpur:20180211T090000
DTEND;TZID=Asia/Kuala_Lumpur:20180211T100000
DTSTAMP:20260426T020206
CREATED:20180911T061315Z
LAST-MODIFIED:20180911T061315Z
UID:7980-1518339600-1518343200@votereducation.spr.gov.my
SUMMARY:New Event
DESCRIPTION:
URL:https://votereducation.spr.gov.my/event/new-event-3/
END:VEVENT
BEGIN:VEVENT
DTSTART;TZID=Asia/Kuala_Lumpur:20180211T083000
DTEND;TZID=Asia/Kuala_Lumpur:20180211T140000
DTSTAMP:20260426T020206
CREATED:20180911T061313Z
LAST-MODIFIED:20180911T061313Z
UID:7979-1518337800-1518357600@votereducation.spr.gov.my
SUMMARY:Latihan -  Ejen Parti Politik - UMNO
DESCRIPTION:PENCERAMAHEn.Nik Aminudin Nik Shahar Shah En. Abdul Fatah Mohd PilusPEMBANTU PENCERAMAHPn. Nurul Mashitah Roslan Cik Adeline Alvina Nokiat En. Halizul Halim En. Mohamad Zabadi Baharuddin
URL:https://votereducation.spr.gov.my/event/latihan-ejen-parti-politik-umno-5/
END:VEVENT
BEGIN:VEVENT
DTSTART;TZID=Asia/Kuala_Lumpur:20180211T000000
DTEND;TZID=Asia/Kuala_Lumpur:20180212T000000
DTSTAMP:20260426T020206
CREATED:20180911T061313Z
LAST-MODIFIED:20180911T061313Z
UID:7978-1518307200-1518393600@votereducation.spr.gov.my
SUMMARY:Latihan -  Taklimat Ulangan Petugas PRU-14 (Negeri Terengganu)
DESCRIPTION:Parlimen Besut Penceramah :En.Mohd Zamri Jalil Pembantu:En.Muhamad Zakirin Daud Parlimen MarangPenceramah: En. Ammar Soufwan Morazuki Pembantu: Pn.Wan Samsuhaida Samsudin Parlimen Kuala Nerus Penceramah: Pn. Shamsiah Chee Ros Pembantu: Pn. Nurul Mashitah Roslan Parlimen Kuala Terengganu Penceramah:En. Abdul Fatah PilusPembantu: En. Halizul Halim Parlimen Hulu Terengganu Penceramah:En.Nik Aminudin Nik Shahar Shah Pembantu: Cik Adeline Alvina Nokiat Parlimen DungunPenceramah:Pn.Aina Osman Pembantu: Cik Nurul Wahida Mohd Zain Parlimen Kemaman Penceramah:Pn.Khadijah Ishak Pembantu: Pn. Nor Aziah Md Kassim
URL:https://votereducation.spr.gov.my/event/latihan-taklimat-ulangan-petugas-pru-14-negeri-terengganu/
END:VEVENT
BEGIN:VEVENT
DTSTART;TZID=Asia/Kuala_Lumpur:20180210T083000
DTEND;TZID=Asia/Kuala_Lumpur:20180210T140000
DTSTAMP:20260426T020206
CREATED:20180911T061313Z
LAST-MODIFIED:20180911T061313Z
UID:7976-1518251400-1518271200@votereducation.spr.gov.my
SUMMARY:Latihan -  Ejen Parti Politik ( UMNO)
DESCRIPTION:PenceramahEn.Nik Aminudin Nik Shahar Shah En. Abdul Fatah Mohd Pilus PembantuCik Siti Nor Hafiza Mat Hussain Pn.Wan Samsuhaida Samsudin En. Faizul Fahsyar Maharidan En. Mohd Azwan Mohd Azmi
URL:https://votereducation.spr.gov.my/event/latihan-ejen-parti-politik-umno-4/
END:VEVENT
BEGIN:VEVENT
DTSTART;TZID=Asia/Kuala_Lumpur:20180210T000000
DTEND;TZID=Asia/Kuala_Lumpur:20180211T000000
DTSTAMP:20260426T020206
CREATED:20180911T061313Z
LAST-MODIFIED:20180911T061313Z
UID:7977-1518220800-1518307200@votereducation.spr.gov.my
SUMMARY:Taklimat PACABA Negeri Melaka
DESCRIPTION:PenceramahEn. Nik Aminudin Nik Shahar ShahEn. Abdul Fatah Mohd PilusPembantuPn. Nurul Mashitah RoslanCik Siti Nor HafizaMat HussainEn. Faizul Fahsyar MaharidanEn. Mohd Azwan Azmi
URL:https://votereducation.spr.gov.my/event/taklimat-pacaba-negeri-melaka/
END:VEVENT
BEGIN:VEVENT
DTSTART;TZID=Asia/Kuala_Lumpur:20180209T090000
DTEND;TZID=Asia/Kuala_Lumpur:20180209T123000
DTSTAMP:20260426T020206
CREATED:20180911T061313Z
LAST-MODIFIED:20180911T061313Z
UID:7975-1518166800-1518179400@votereducation.spr.gov.my
SUMMARY:Latihan -  Undi Pos Imigresen & APMM Selangor
DESCRIPTION:Penceramah Pn.Norlinah Jamman PembantuEn. Faizul Fahsyar Maharidan En. Mohd Azwan Mohd Azmi
URL:https://votereducation.spr.gov.my/event/latihan-undi-pos-imigresen-apmm-selangor/
END:VEVENT
BEGIN:VEVENT
DTSTART;TZID=Asia/Kuala_Lumpur:20180209T000000
DTEND;TZID=Asia/Kuala_Lumpur:20180210T000000
DTSTAMP:20260426T020206
CREATED:20180911T061311Z
LAST-MODIFIED:20180911T061311Z
UID:7974-1518134400-1518220800@votereducation.spr.gov.my
SUMMARY:Pemerhati Pilihan Raya IPG
DESCRIPTION:PENCERAMAHEn.Nik Aminudin Nik Shahar ShahEn. Abdul FatahMohd Pilus PEMBANTU PENCERAMAHEn. Halizul Halim En. Mohamad Zabadi Baharuddin
URL:https://votereducation.spr.gov.my/event/pemerhati-pilihan-raya-ipg-9/
END:VEVENT
BEGIN:VEVENT
DTSTART;TZID=Asia/Kuala_Lumpur:20180208T083000
DTEND;TZID=Asia/Kuala_Lumpur:20180208T120000
DTSTAMP:20260426T020206
CREATED:20180911T061311Z
LAST-MODIFIED:20180911T061311Z
UID:7972-1518078600-1518091200@votereducation.spr.gov.my
SUMMARY:Latihan -  Undi Pos Bomba
DESCRIPTION:PENCERAMAHPUAN SHAMSIAH CHEE ROSPEMBANTU PENCERAMAHPn.Azizah Ahmad Cik Fatin Adiba Mohamad Prim Nasir
URL:https://votereducation.spr.gov.my/event/latihan-undi-pos-bomba-4/
END:VEVENT
BEGIN:VEVENT
DTSTART;TZID=Asia/Kuala_Lumpur:20180208T000000
DTEND;TZID=Asia/Kuala_Lumpur:20180210T000000
DTSTAMP:20260426T020206
CREATED:20180911T061311Z
LAST-MODIFIED:20180911T061311Z
UID:7973-1518048000-1518220800@votereducation.spr.gov.my
SUMMARY:Stay at The Northam All Suite Penang
DESCRIPTION:The Northam All Suite Penang booked on the Agoda appBooking ID: 253071297Check-in: Thu\, Feb 08\, 2018Check-out: Fri\, Feb 09\, 2018
URL:https://votereducation.spr.gov.my/event/stay-at-the-northam-all-suite-penang/
END:VEVENT
BEGIN:VEVENT
DTSTART;TZID=Asia/Kuala_Lumpur:20180207T100000
DTEND;TZID=Asia/Kuala_Lumpur:20180207T120000
DTSTAMP:20260426T020206
CREATED:20180911T061309Z
LAST-MODIFIED:20180911T061309Z
UID:7969-1517997600-1518004800@votereducation.spr.gov.my
SUMMARY:Lawatan Galeri - UMK
DESCRIPTION:Pn.Khadijah Ishak Pn. Aina OsmanEn. Mohd Anas Abdul Rahman Pn.Azizah Ahmad Pn.Nazrin Alis Pn. Zainur Aini Abdullah Pn.Fathin Azwida Abdul Wahab
URL:https://votereducation.spr.gov.my/event/lawatan-galeri-umk/
END:VEVENT
END:VCALENDAR