BEGIN:VCALENDAR
VERSION:2.0
PRODID:-//Portal Pendidikan Pengundi - ECPv5.6.0//NONSGML v1.0//EN
CALSCALE:GREGORIAN
METHOD:PUBLISH
X-WR-CALNAME:Portal Pendidikan Pengundi
X-ORIGINAL-URL:https://votereducation.spr.gov.my
X-WR-CALDESC:Events for Portal Pendidikan Pengundi
BEGIN:VTIMEZONE
TZID:Asia/Kuala_Lumpur
BEGIN:STANDARD
TZOFFSETFROM:+0800
TZOFFSETTO:+0800
TZNAME:+08
DTSTART:20180101T000000
END:STANDARD
END:VTIMEZONE
BEGIN:VEVENT
DTSTART;TZID=Asia/Kuala_Lumpur:20190328T080000
DTEND;TZID=Asia/Kuala_Lumpur:20190328T170000
DTSTAMP:20260426T083942
CREATED:20190328T063602Z
LAST-MODIFIED:20190410T061611Z
UID:12006-1553760000-1553792400@votereducation.spr.gov.my
SUMMARY:Latihan - Taklimat Pemerhati PRK Rantau\, Negeri Sembilan
DESCRIPTION:Taklimat Pemerhati PRK Rantau\, Negeri Sembilan \nPenceramah \nModul 1 : Penamaan Calon –  Encik Zamri Mohd Jalil  \nModul  4: Semakan Peti Undi\, Proses Pengundian & Pengiraan Undi  – Encik Nik Aminudin Nik Shahar Shah \nModul 5: Perjumlahan Rasmi Undi & Pengumuman Keputusan Pilihan Raya – Puan Shamsiah Chee Ros  \nModul 6: Simulasi Pengundian Pos – Puan Norlinah Jamman
URL:https://votereducation.spr.gov.my/event/latihan-taklimat-pemerhati-prk-rantau-negeri-sembilan/
CATEGORIES:latihan,Pilihan Raya
END:VEVENT
BEGIN:VEVENT
DTSTART;TZID=Asia/Kuala_Lumpur:20190312T080000
DTEND;TZID=Asia/Kuala_Lumpur:20190314T170000
DTSTAMP:20260426T083942
CREATED:20190315T021237Z
LAST-MODIFIED:20190315T023805Z
UID:10561-1552377600-1552582800@votereducation.spr.gov.my
SUMMARY:LATIHAN – Kursus Training Of  Trainers | 12 - 14 Mac 2019
DESCRIPTION:Pahang  – Kursus Training of Trainers (TOT)  telah dijalankan dengan jayanya pada 12- 14 mac 2019 bertempat di  De Rhu Beach Resort\, Pahang . Kursus ini telah dihadiri oleh lebih 103  orang warga SPR diseluruh Negara. Kursus ini diadakan bagi melatih warga SPR di seluruh negara untuk menjadi jurucakap  dalam menyampaikan maklumat yang lebih tepat kepada warga sekolah serta mahasiswa di dalam semua program yang akan melibatkan mereka. \nPeserta juga di dedahkan dengan teknik pempaian berkesan oleh Pengarah Akademi Pilihan Raya. \nDiakhir kursus ini\, peserta akan dapat memahami siapa SPR\, fungsi-fungsi SRP\, serta proses dan prosedur terkini pengurusan pengundian dan seterusnya menjadi agen penyampai maklumat yang tepat dan sahih kepada pelanggan SPR. \nMajlis penutup disempurnakan oleh Pengarah Akademi Pilihan Raya\, Encik Hasanul Isyraf Bin Naim. \n 
URL:https://votereducation.spr.gov.my/event/latihan-kursus-training-of-trainers-12-mac-14-mac-2019/
LOCATION:de rhu beach resort
CATEGORIES:latihan,Pendidikan Pengundi
END:VEVENT
BEGIN:VEVENT
DTSTART;TZID=Asia/Kuala_Lumpur:20190214T083000
DTEND;TZID=Asia/Kuala_Lumpur:20190214T170000
DTSTAMP:20260426T083942
CREATED:20190311T054047Z
LAST-MODIFIED:20190315T041844Z
UID:10200-1550133000-1550163600@votereducation.spr.gov.my
SUMMARY:Taklimat Pemerhati | 14 Februari 2019
DESCRIPTION:
URL:https://votereducation.spr.gov.my/event/latihan-undi-pos-prk-cameron-highlands-9-januari-2019/
LOCATION:dewan serbaguna spr\, PUTRAJAYA\, Malaysia
CATEGORIES:latihan
END:VEVENT
BEGIN:VEVENT
DTSTART;VALUE=DATE:20180827
DTEND;VALUE=DATE:20180831
DTSTAMP:20260426T083942
CREATED:20180829T075043Z
LAST-MODIFIED:20180901T104028Z
UID:5680-1535328000-1535673599@votereducation.spr.gov.my
SUMMARY:Taklimat Petugas KTM/KPMU\, PPM/KPDP/PAPM PRK Balakong dan PRK Seri Setia
DESCRIPTION:Tarikh : 27.08.2018 (Isnin)\nTaklimat Petugas Ketua Tempat Mengundi (KTM) PRK Seri Setia\nTempat : Dewan Sivik MBPJ\, Petaling jaya\nPenceramah :\nKumpulan 1 | En.Mohd Azri Mohideen Abdul Kadir\nKumpulan 2 | Pn. Shamsiah binti Chee Ros\nKumpulan 3 | En. Zamri bin Mohd Jalil \n\nTarikh : 28.08.2018 (Selasa)\nTaklimat Petugas Ketua Tempat Mengundi (KTM) PRK Balakong\nPenceramah :\nTempat : Dewan Serbaguna Mahkota Cheras\nKumpulan 1 | En.Mohd Azri Mohideen Abdul Kadir\nTempat : Dewan Orang Ramai Desa Baiduri\nKumpulan 2 | Pn. Shamsiah binti Chee Ros\nTempat : Dewan Orang Ramai taman Cheras Jaya\nKumpulan 3 | En. Zamri bin Mohd Jalil \n\nTarikh : 29.08.2018 (Rabu)\nTaklimat Petugas Kerani Pengundian/Kerani Mengira Undi (KPMU) PRK Seri Setia\nTempat : Dewan Sivik MBPJ\nPenceramah:\nKumpulan 1 |En. Zamri bin Mohd Jalil\nKumpulan 2 | En. Faizul Fahsyar Maharidan \n\nTarikh : 29.08.2018\nTaklimat PetugasKerani Pengundian/Kerani Mengira Undi (KPMU) PRK Balakong\nTempat : Dewan Orang Ramai Desa Baiduri\nKumpulan 1 | En.Mohd Azri Mohideen Abdul Kadir\nKumpulan 2 | Pn. Shamsiah binti Chee Ros \n\nTarikh : 30.08.2018\nTaklimat Petugas PPM/KPDP/PAPM PRK Seri Setia\nTempat : Dewan Sivik MBPJ\, Petaling Jaya\nPenceramah:\nEn. Faizul Fahsyar Maharidan \n\nTarikh : 30.08.2018\nTaklimat Petugas PPM/KPDP/PAPM PRK Seri Setia\nTempat : Dewan Orang Ramai Desa Baiduri\nPenceramah:\nPn.Shamsiah binti Chee Ros \n  \n\n 
URL:https://votereducation.spr.gov.my/event/taklimat-petugas-ktm-kpmu-prk-balakong-dan-seri-setia/
CATEGORIES:latihan
END:VEVENT
BEGIN:VEVENT
DTSTART;TZID=Asia/Kuala_Lumpur:20180814T090000
DTEND;TZID=Asia/Kuala_Lumpur:20180814T130000
DTSTAMP:20260426T083942
CREATED:20180829T090326Z
LAST-MODIFIED:20180829T090356Z
UID:5851-1534237200-1534251600@votereducation.spr.gov.my
SUMMARY:Latihan – Taklimat RO PRK Balakong
DESCRIPTION:Penceramah:\nPuan Norlinah Jamman\nEn.Mohd Azri Mohideen Abdul Kadir\nPn.Shamsiah Chee Ros \n\n\n\n\n\nPembantu:\nCik Siti Nor Hafiza Mat Hussain\nEn. Faizul Fahsyar Maharidan\nEn. Mohd Azwan Mohd Azmi
URL:https://votereducation.spr.gov.my/event/latihan-taklimat-ro-prk-balakong/
LOCATION:Auditorium\, Aras 2\, Menara SPR
CATEGORIES:latihan
END:VEVENT
BEGIN:VEVENT
DTSTART;TZID=Asia/Kuala_Lumpur:20180813T090000
DTEND;TZID=Asia/Kuala_Lumpur:20180813T130000
DTSTAMP:20260426T083942
CREATED:20180829T085746Z
LAST-MODIFIED:20180829T085746Z
UID:5845-1534150800-1534165200@votereducation.spr.gov.my
SUMMARY:Latihan – Taklimat RO PRK Seri Setia
DESCRIPTION:Penceramah:\nPuan Norlinah Jamman\nEn.Mohd Azri Mohideen Abdul Kadir\nPn.Shamsiah Chee Ros \n\n\n\n\nPembantu:\nCik Siti Nor Hafiza Mat Hussain\nEn. Faizul Fahsyar Maharidan\nEn. Mohd Azwan Mohd Azmi
URL:https://votereducation.spr.gov.my/event/latihan-taklimat-ro-prk-seri-setia/
LOCATION:Bilik Mesyuarat Bunga Tanjung\, Tingkat 1\, Ibu Pejabat MBPJ
CATEGORIES:latihan
END:VEVENT
END:VCALENDAR