BEGIN:VCALENDAR
VERSION:2.0
PRODID:-//Portal Pendidikan Pengundi - ECPv5.6.0//NONSGML v1.0//EN
CALSCALE:GREGORIAN
METHOD:PUBLISH
X-WR-CALNAME:Portal Pendidikan Pengundi
X-ORIGINAL-URL:https://votereducation.spr.gov.my
X-WR-CALDESC:Events for Portal Pendidikan Pengundi
BEGIN:VTIMEZONE
TZID:Asia/Kuala_Lumpur
BEGIN:STANDARD
TZOFFSETFROM:+0800
TZOFFSETTO:+0800
TZNAME:+08
DTSTART:20240101T000000
END:STANDARD
END:VTIMEZONE
BEGIN:VEVENT
DTSTART;TZID=Asia/Kuala_Lumpur:20250730T080000
DTEND;TZID=Asia/Kuala_Lumpur:20250730T170000
DTSTAMP:20260426T012955
CREATED:20250813T074802Z
LAST-MODIFIED:20250813T074831Z
UID:73100-1753862400-1753894800@votereducation.spr.gov.my
SUMMARY:KURSUS PEMANTAPAN PENGURUSAN UNDI POS PERINGKAT PPN SARAWAK TAHUN 2025
DESCRIPTION:KURSUS PEMANTAPAN PENGURUSAN UNDI POS PERINGKAT PEJABAT PILIHAN RAYA NEGERI SARAWAK TAHUN 2025 \nTARIKH : 30 JULAI 2025 (RABU)\nMASA : 8.30 PAGI – 4.00 PETANG\nTEMPAT : BILIK MESYUARAT\, PEJABAT PILIHAN RAYA NEGERI SARAWAK \nPENCERAMAH : EN. NIK AMINUDIN BIN NIK SHAHAR SHAH \n  \n 
URL:https://votereducation.spr.gov.my/event/kursus-pemantapan-pengurusan-undi-pos-peringkat-ppn-sarawak-tahun-2025/
CATEGORIES:latihan
END:VEVENT
BEGIN:VEVENT
DTSTART;TZID=Asia/Kuala_Lumpur:20250723T080000
DTEND;TZID=Asia/Kuala_Lumpur:20250723T170000
DTSTAMP:20260426T012955
CREATED:20250813T080758Z
LAST-MODIFIED:20250813T080821Z
UID:73213-1753257600-1753290000@votereducation.spr.gov.my
SUMMARY:VE BERSAMA WARGA JABATAN PENDIDIKAN NEGERI PERAK
DESCRIPTION:PROGRAM PENDIDIKAN PENGUNDI BERSAMA WARGA JABATAN PENDIDIKAN NEGERI PERAK \nTARIKH : 23 Julai 2025 (Rabu)\nMASA : 2.00 petang- 4.00 petang\nTEMPAT : Bilik Waja Bestari\, Sektor Sumber Teknologi Pendidikan\, JPN Perak\nBIL. PESERTA : 15 orang \nPENCERAMAH :\nEn. Kamarul Azman bin Ahmad Sabri \n\n 
URL:https://votereducation.spr.gov.my/event/ve-bersama-warga-jabatan-pendidikan-negeri-perak/
CATEGORIES:latihan,Pendidikan Pengundi
END:VEVENT
BEGIN:VEVENT
DTSTART;TZID=Asia/Kuala_Lumpur:20250716T080000
DTEND;TZID=Asia/Kuala_Lumpur:20250716T170000
DTSTAMP:20260426T012955
CREATED:20250815T110313Z
LAST-MODIFIED:20250815T113026Z
UID:74111-1752652800-1752685200@votereducation.spr.gov.my
SUMMARY:TAKLIMAT PILIHANARAYA PPN KELANTAN BERSAMA IPK KELANTAN
DESCRIPTION:TAKLIMAT PILIHANARAYA PPN KELANTAN BERSAMA IPK KELANTAN \nTEMPAT : DEWAN UTAMA CAWANGAN KHAS IPK KELANTAN\nTARIKH : 16/07/2025(RABU)\nMASA : 8:30 – 10.30AM \nJUMLAH PESERTA : 50 ORANG \nPU:\nEN MOHD FADLY MOHD FAUZI \nPPU:\n1. EN ZALIN SIDEK ZAKARIA
URL:https://votereducation.spr.gov.my/event/taklimat-pilihanaraya-ppn-kelantan-bersama-ipk-kelantan/
CATEGORIES:latihan,Pilihan Raya
END:VEVENT
BEGIN:VEVENT
DTSTART;TZID=Asia/Kuala_Lumpur:20250708T080000
DTEND;TZID=Asia/Kuala_Lumpur:20250708T170000
DTSTAMP:20260426T012955
CREATED:20250813T084851Z
LAST-MODIFIED:20250813T084928Z
UID:73478-1751961600-1751994000@votereducation.spr.gov.my
SUMMARY:KURSUS PEMANTAPAN PENGURUSAN UNDI POS PERINGKAT PPN TERENGGANU TAHUN 2025
DESCRIPTION:KURSUS PEMANTAPAN PENGURUSAN UNDI POS PERINGKAT PEJABAT PILIHAN RAYA NEGERI TERENGGANU TAHUN 2025 \nTARIKH : 8 JULAI 2025 (SELASA)\nMASA : 9.00 PAGI – 4.00 PETANG\nTEMPAT : BILIK MESYUARAT GUNASAMA\, WISMA PERSEKUTUAN KUALA TERENGGANU\, TERENGGANU \nPENCERAMAH : EN. NIK AMINUDIN BIN NIK SHAHAR SHAH \n  \n 
URL:https://votereducation.spr.gov.my/event/kursus-pemantapan-pengurusan-undi-pos-peringkat-ppn-terengganu-tahun-2025/
CATEGORIES:latihan,Pendidikan Pengundi
END:VEVENT
BEGIN:VEVENT
DTSTART;TZID=Asia/Kuala_Lumpur:20250617T080000
DTEND;TZID=Asia/Kuala_Lumpur:20250617T170000
DTSTAMP:20260426T012955
CREATED:20250618T033053Z
LAST-MODIFIED:20250618T033130Z
UID:71884-1750147200-1750179600@votereducation.spr.gov.my
SUMMARY:VE - KURSUS PENGURUSAN PENAMAAN CALON & PPRU PEJABAT PPN SELANGOR 2025
DESCRIPTION:KURSUS PENGURUSAN SISTEM PENAMAAN CALON DAN PENJUMLAHAN RASMI UNDI PERINGKAT PEJABAT PILIHAN RAYA NEGERI SELANGOR TAHUN 2025 \nTARIKH : 17 JUN 2025 (SELASA)\nMASA : 9.00 PAGI – 4.00 PETANG\nTEMPAT : BILIK MESYUARAT\, PEJABAT PILIHAN RAYA NEGERI SELANGOR \nPENCERAMAH : EN. NIK AMINUDIN BIN NIK SHAHAR SHAH
URL:https://votereducation.spr.gov.my/event/ve-kursus-pengurusan-penamaan-calon-ppru-pejabat-ppn-selangor-2025/
CATEGORIES:latihan,Pilihan Raya
END:VEVENT
BEGIN:VEVENT
DTSTART;TZID=Asia/Kuala_Lumpur:20250325T080000
DTEND;TZID=Asia/Kuala_Lumpur:20250325T170000
DTSTAMP:20260426T012955
CREATED:20250617T042152Z
LAST-MODIFIED:20250617T042214Z
UID:71714-1742889600-1742922000@votereducation.spr.gov.my
SUMMARY:TAKLIMAT PETUGAS PARTI POLITIK PRK N.48 AYER KUNING
DESCRIPTION:TAKLIMAT PETUGAS PARTI POLITIK BAGI PILIHAN RAYA KECIL (PRK) DEWAN NEGERI N.48 AYER KUNING\, PERAK \nTEMPAT: DEWAN SM SAINS TAPAH\nTARIKH: 25 MAC 2025 (SELASA) \nPENCERAMAH:\nEN. KAMARUL AZMAN B. AHMAD SABRI &\nEN. MUHAMMAD HAKIMI BIN HARUN \n 
URL:https://votereducation.spr.gov.my/event/taklimat-petugas-parti-politik-prk-n-48-ayer-kuning/
CATEGORIES:latihan,Pilihan Raya
END:VEVENT
BEGIN:VEVENT
DTSTART;TZID=Asia/Kuala_Lumpur:20250325T080000
DTEND;TZID=Asia/Kuala_Lumpur:20250325T170000
DTSTAMP:20260426T012955
CREATED:20250617T041538Z
LAST-MODIFIED:20250617T041538Z
UID:71704-1742889600-1742922000@votereducation.spr.gov.my
SUMMARY:TAKLIMAT PEMERHATI PRK N.48 AYER KUNING
DESCRIPTION:TAKLIMAT PEMERHATI PILIHAN RAYA BAGI PILIHAN RAYA KECIL DEWAN NEGERI N.48 AYER KUNING\, PERAK \nTARIKH : 25 MAC 2025 (SELASA)\nMASA : 9.30 PAGI\nTEMPAT : AUDITORIUM\, ARAS 2 MENARA SPR\nBIL. PESERTA : 25 ORANG \nPENCERAMAH : CIK SITI NAZIHA BINTI AZMAN
URL:https://votereducation.spr.gov.my/event/taklimat-pemerhati-prk-n-48-ayer-kuning/
CATEGORIES:latihan,Pilihan Raya
END:VEVENT
BEGIN:VEVENT
DTSTART;TZID=Asia/Kuala_Lumpur:20250324T080000
DTEND;TZID=Asia/Kuala_Lumpur:20250324T170000
DTSTAMP:20260426T012955
CREATED:20250617T043625Z
LAST-MODIFIED:20250617T043648Z
UID:71764-1742803200-1742835600@votereducation.spr.gov.my
SUMMARY:TAKLIMAT UNDI POS PRK N.48 AYER KUNING
DESCRIPTION:TAKLIMAT PENGURUSAN UNDI POS BAGI URUSAN PRK N.48 AYER KUNING\, PERAK \nTARIKH : 24 MAC 2025 (ISNIN)\nMASA : 9.00 PAGI\nTEMPAT : PEJABAT DAERAH & TANAH BATANG PADANG \nPENCERAMAH :\nENCIK NIK AMINUDIN \n 
URL:https://votereducation.spr.gov.my/event/taklimat-undi-pos-prk-n-48-ayer-kuning/
CATEGORIES:latihan,Pilihan Raya
END:VEVENT
BEGIN:VEVENT
DTSTART;TZID=Asia/Kuala_Lumpur:20250321T080000
DTEND;TZID=Asia/Kuala_Lumpur:20250321T170000
DTSTAMP:20260426T012955
CREATED:20250617T043156Z
LAST-MODIFIED:20250617T043156Z
UID:71752-1742544000-1742576400@votereducation.spr.gov.my
SUMMARY:TAKLIMAT PDRM PRK N.48 AYER KUNING
DESCRIPTION:TAKLIMAT PDRM BAGI URUSAN PRK N.48 AYER KUNING\, PERAK \nTARIKH : 21 MAC 2025 (JUMAAT)\nMASA : 9.00 PAGI\nTEMPAT : IPD TAPAH \nPENCERAMAH :\nENCIK NIK AMINUDIN \n 
URL:https://votereducation.spr.gov.my/event/taklimat-pdrm-prk-n-48-ayer-kuning/
CATEGORIES:latihan,Pilihan Raya
END:VEVENT
BEGIN:VEVENT
DTSTART;TZID=Asia/Kuala_Lumpur:20250320T080000
DTEND;TZID=Asia/Kuala_Lumpur:20250320T170000
DTSTAMP:20260426T012955
CREATED:20250617T040532Z
LAST-MODIFIED:20250617T040532Z
UID:71610-1742457600-1742490000@votereducation.spr.gov.my
SUMMARY:TAKLIMAT KP/KPKMU PRK N.48 AYER KUNING
DESCRIPTION:TAKLIMAT PETUGAS KERANI PENGUNDIAN/KERANI MENGIRA UNDI 2\, 3 & 4 (KPKMU 2\, 3\, & 4) BAGI PILIHAN RAYA KECIL (PRK) DEWAN NEGERI N.48 AYER KUNING\, PERAK \nTEMPAT: DEWAN SM SAINS TAPAH\nTARIKH: 20 MAC 2025 (KHAMIS) \nPENCERAMAH:\nYBHG. DATO’ PUTEH HIDAYAH BINTI A.RAHMAN \n 
URL:https://votereducation.spr.gov.my/event/taklimat-kp-kpkmu-prk-n-48-ayer-kuning/
CATEGORIES:latihan,Pilihan Raya
END:VEVENT
BEGIN:VEVENT
DTSTART;TZID=Asia/Kuala_Lumpur:20250319T080000
DTEND;TZID=Asia/Kuala_Lumpur:20250319T170000
DTSTAMP:20260426T012955
CREATED:20250617T042626Z
LAST-MODIFIED:20250617T042756Z
UID:71725-1742371200-1742403600@votereducation.spr.gov.my
SUMMARY:PRK N.48 AYER KUNING (TAKLIMAT KTM & KPKMU1)
DESCRIPTION:TAKLIMAT PETUGAS KETUA TEMPAT MENGUNDI (KTM) DAN KERANI PENGUNDIAN/KERANI MENGIRA UNDI 1 (KPKMU 1) BAGI PILIHAN RAYA KECIL (PRK) DEWAN NEGERI N.48 AYER KUNING\, PERAK (KUMPULAN 1) \nTEMPAT: DEWAN SMK BUYONG ADIL\, TAPAH\nTARIKH: 19 MAC 2025 (RABU) \nPENCERAMAH:\nEN. HASANUL ISYRAF BIN NAIM \n 
URL:https://votereducation.spr.gov.my/event/prk-n-48-ayer-kuning-taklimat-ktm-kpkmu1/
CATEGORIES:latihan,Pilihan Raya
END:VEVENT
BEGIN:VEVENT
DTSTART;TZID=Asia/Kuala_Lumpur:20250315T080000
DTEND;TZID=Asia/Kuala_Lumpur:20250315T170000
DTSTAMP:20260426T012955
CREATED:20250617T044337Z
LAST-MODIFIED:20250617T044548Z
UID:71781-1742025600-1742058000@votereducation.spr.gov.my
SUMMARY:PROGRAM KHIDMAT KOMUNITI SMK SERI PUTERI\, CYBERJAYA
DESCRIPTION:PROGRAM KHIDMAT KOMUNITI (COMMUNITY SERVICE) “CELIK DEMOKRASI: DARI SEKOLAH KE KOTAK UNDI” DI SEKOLAH SERI PUTERI\, CYBERJAYA\, SELANGOR BAGI TAHUN 2025 \nTARIKH: 15 MAC 2025 (SABTU)\nMASA: 7.30 PAGI – 12.30 TENGAH HARI\nTEMPAT: SEKOLAH SERI PUTERI\, CYBERJAYA\nBIL. PESERTA: 175 ORANG\nPENCERAMAH: CIK SITI NAZIHA BINTI AZMAN \n  \n\n 
URL:https://votereducation.spr.gov.my/event/program-khidmat-komuniti-smk-seri-puteri-cyberjaya/
CATEGORIES:latihan,Pilihan Raya
END:VEVENT
BEGIN:VEVENT
DTSTART;TZID=Asia/Kuala_Lumpur:20250312T080000
DTEND;TZID=Asia/Kuala_Lumpur:20250312T170000
DTSTAMP:20260426T012955
CREATED:20250617T045314Z
LAST-MODIFIED:20250617T045331Z
UID:71834-1741766400-1741798800@votereducation.spr.gov.my
SUMMARY:TAKLIMAT UNDI POS PRK N.48 AYER KUNING
DESCRIPTION:TAKLIMAT PENGURUSAN UNDI POS (SISTEM MySPR) BAGI URUSAN PILIHAN RAYA KECIL (PRK) DEWAN NEGERI N.48 AYER KUNING\, PERAK \nTARIKH : 12 MAC 2025 (RABU)\nMASA : 9.00 PAGI – 12.00 TENGAH HARI\nTEMPAT : BILIK GERAKAN\, PEJABAT DAERAH DAN TANAH BATANG PADANG\, TAPAH\, PERAK \nPENCERAMAH :\nEN. HASANUL ISYRAF BIN NAIM \n 
URL:https://votereducation.spr.gov.my/event/taklimat-undi-pos-prk-n-48-ayer-kuning-2/
CATEGORIES:latihan,Pilihan Raya
END:VEVENT
BEGIN:VEVENT
DTSTART;TZID=Asia/Kuala_Lumpur:20250311T080000
DTEND;TZID=Asia/Kuala_Lumpur:20250311T170000
DTSTAMP:20260426T012955
CREATED:20250616T083440Z
LAST-MODIFIED:20250616T085311Z
UID:71591-1741680000-1741712400@votereducation.spr.gov.my
SUMMARY:TAKLIMAT RO PRK N.48 AYER KUNING
DESCRIPTION:TAKLIMAT PEGAWAI PENGURUS BAGI URUSAN PILIHAN RAYA KECIL (PRK) DEWAN NEGERI N.48 AYER KUNING\, PERAK  \nTARIKH : 11 MAC 2025 (SELASA)  \nMASA : 9.00 PAGI – 12.00 TENGAH HARI  \nTEMPAT : BILIK GERAKAN\, PEJABAT DAERAH DAN TANAH BATANG PADANG\, TAPAH\, PERAK  \nPENCERAMAH : EN. HASANUL ISYRAF BIN NAIM \n 
URL:https://votereducation.spr.gov.my/event/taklimat-ro-prk-n-48-ayer-kuning/
CATEGORIES:latihan,Pilihan Raya
END:VEVENT
BEGIN:VEVENT
DTSTART;TZID=Asia/Kuala_Lumpur:20250303T080000
DTEND;TZID=Asia/Kuala_Lumpur:20250303T170000
DTSTAMP:20260426T012955
CREATED:20250303T030119Z
LAST-MODIFIED:20250303T030135Z
UID:70037-1740988800-1741021200@votereducation.spr.gov.my
SUMMARY:VET PPN KELANTAN BERSAMA IKBN TANAH MERAH\, KELANTAN
DESCRIPTION:PROGRAM TAKLIMAT PENDIDIKAN PENGUNDI [VET] PPN KELANTAN  \nTARIKH : 25 FEB 2025 [SELASA]  \nMASA : 9.00 – 1.00TGH  \nTEMPAT : DWN SERBAGUNA IKBN TANAH MERAH  \nJUMLAH PESERTA : 110 ORANG  \nPU: ZALIN SIDEK ZAKARIA  \nPPU: 1. SITI FARAH ISMAIL 2. SITI HANAFIAH JUDDIN \n  \n 
URL:https://votereducation.spr.gov.my/event/vet-ppn-kelantan-bersama-ikbn-tanah-merah-kelantan/
CATEGORIES:latihan,Pendidikan Pengundi
END:VEVENT
BEGIN:VEVENT
DTSTART;TZID=Asia/Kuala_Lumpur:20250227T080000
DTEND;TZID=Asia/Kuala_Lumpur:20250227T170000
DTSTAMP:20260426T012955
CREATED:20250303T023417Z
LAST-MODIFIED:20250303T023621Z
UID:69989-1740643200-1740675600@votereducation.spr.gov.my
SUMMARY:VEM PPN PERAK BERSAMA BELIA 4B TAMBUN\, PERAK
DESCRIPTION:PROGRAM TAKLIMAT PENDIDIKAN PENGUNDI [VEM] PPN PERAK BERSAMA BELIA 4B TAMBUN \nTARIKH : 27 FEB 2025 [KHAMIS]  \nMASA : 8.00 PG – 11.00 TGH  \nTEMPAT : DEWAN KOMPLEKS BELIA DAN SUKAN NEGERI PERAK  \nJUMLAH PESERTA : 110 ORANG  \nPU: PUAN SHAHREEN BINTI ALIAS  \nPPU: 1. MOHAMAD AZRUL BIN JAMALUDIN  \n2. RAHIMAH BINTI MALEK  \n3. AIMAN BIN KAMARUDDIN  \n4. NARIMAH BINTI YAHYA  \n5. ROZITAH BINTI ABD MALEK  \n6. AHMAD RAKIZ BIN JOHARI \n  \n  \n\n  \n 
URL:https://votereducation.spr.gov.my/event/vem-ppn-perak-bersama-belia-4b-tambun-perak/
CATEGORIES:latihan,Pendidikan Pengundi
END:VEVENT
BEGIN:VEVENT
DTSTART;TZID=Asia/Kuala_Lumpur:20250224T080000
DTEND;TZID=Asia/Kuala_Lumpur:20250224T170000
DTSTAMP:20260426T012955
CREATED:20250304T024012Z
LAST-MODIFIED:20250304T024045Z
UID:70113-1740384000-1740416400@votereducation.spr.gov.my
SUMMARY:VET BERSAMA ADTEC JERANTUT\, PAHANG
DESCRIPTION:PROGRAM TAKLIMAT PENDIDIKAN PENGUNDI [VET]  \nTARIKH : 24 FEB 2025 [ISNIN]  \nMASA : 10.30 PAGI  \nTEMPAT : ADTEC JERANTUT  \nJUMLAH PESERTA : 270 ORANG  \nPENCERAMAH AHMAD FADZLI ROHIMI BIN SUHAIMI TIMB PENGARAH  \nPEMBANTU PENCERAMAH  \n1. ROHAIDA BT HUSSAIN  \n2. NAZILAWATI BT BIDU  \n3. AHMAD ZAHIDI B. MOHD NOOR \n 
URL:https://votereducation.spr.gov.my/event/vet-bersama-adtec-jerantut-pahang/
CATEGORIES:latihan,Pendidikan Pengundi
END:VEVENT
BEGIN:VEVENT
DTSTART;TZID=Asia/Kuala_Lumpur:20250223T080000
DTEND;TZID=Asia/Kuala_Lumpur:20250223T170000
DTSTAMP:20260426T012955
CREATED:20250304T022428Z
LAST-MODIFIED:20250304T022504Z
UID:70107-1740297600-1740330000@votereducation.spr.gov.my
SUMMARY:VITUAL VE - PPN KEDAH BERSAMA ADTEC KULIM
DESCRIPTION:PROGRAM PENDIDIKAN PENGUNDI PPN NEGERI KEDAH \n – TAKLIMAT PILIHAN RAYA PUSAT LATIHAN TEKNOLOGI TINGGI (ADTEC) KULIM (VIRTUAL -VE)  \nTEMPAT : VIRTUAL VE (PPN KEDAH – ADTEC KULIM)  \nTARIKH : 23 FEBRUARI 2025  \nMASA : 8.15 PAGI  \nJUMLAH PESERTA : 170 ORANG  \nPEGAWAI TERLIBAT:  \n1. PUAN NAZIRAH BINTI IDRIS  \n2. ENCIK YUSRI BIN ABU BAKAR  \n3. PUAN NORSHAFIQAH BINTI ABDULLAH SANI \n 
URL:https://votereducation.spr.gov.my/event/vitual-ve-ppn-kedah-bersama-adtec-kulim/
CATEGORIES:latihan,Pendidikan Pengundi
END:VEVENT
BEGIN:VEVENT
DTSTART;TZID=Asia/Kuala_Lumpur:20250221T080000
DTEND;TZID=Asia/Kuala_Lumpur:20250221T170000
DTSTAMP:20260426T012955
CREATED:20250304T021915Z
LAST-MODIFIED:20250304T022110Z
UID:70093-1740124800-1740157200@votereducation.spr.gov.my
SUMMARY:VET BERSAMA TUNKU ABDUL RAHMAN UNIVERSITY OF MANAGEMENT AND TECHNOLOGY\, PAHANG
DESCRIPTION:PROGRAM TAKLIMAT PENDIDIKAN PENGUNDI [VET]  \nTARIKH : 21 FEB 2025  \nMASA : 2.30 PETANG  \nTEMPAT : TUNKU ABDUL RAHMAN UNIVERSITY OF MANAGEMENT AND TECHNOLOGY  \nJUMLAH PESERTA : 50 ORANG  \nPENCERAMAH ROHAIDA BT. HUSSAIN PEMBANTU PENCERAMAH NOR HIMADATUL AIDA BT. YAACOB AHMAD JUNAIDI B. MOHD RAMLI @ MOHD ZAMRI \n  \n\n  \n 
URL:https://votereducation.spr.gov.my/event/vet-bersama-tunku-abdul-rahman-university-of-management-and-technology/
CATEGORIES:latihan,Pendidikan Pengundi
END:VEVENT
BEGIN:VEVENT
DTSTART;TZID=Asia/Kuala_Lumpur:20250221T080000
DTEND;TZID=Asia/Kuala_Lumpur:20250221T170000
DTSTAMP:20260426T012955
CREATED:20250303T024006Z
LAST-MODIFIED:20250303T024816Z
UID:70025-1740124800-1740157200@votereducation.spr.gov.my
SUMMARY:PEMERHATI PILIHANRAYA SMKA(P) AL- MASHOOR PULAU PINANG
DESCRIPTION:*Laporan Pemerhati Piliharaya SMKA(P) Al Mashoor PULAU PINANG*  \nTarikh : 21.02.2025 (Jumaat)  \nMasa : 10.00 pg – 1.00 Ptg  \nTempat : Dewan Khadijah Khuwailid  \nJumlah Pelajar : 511 Org  \nPemerhati Piliharaya:  \n1) En. Muhammad Taqiyuddin bin Mohd Sukri  \n2) En. Ahmad Faiz Bin Gelani  \nTurut hadir bersama: – Pengetua dan Guru Sekolah – Wakil Pejabat Pendidikan Daerah Timur Laut – Wakil Jabatan Penerangan Daerah Timur Laut Catatan: – Seramai 511 orang Pelajar hadir bagi proses pengundian bagi memilih wakil pelajar bagi tahun 2025 anjuran Majlis Perwakilan Murid Semashoor. – Proses Pengundian berjalan dengan lancar dan tamat mengikut masa yang ditetapkan. \n  \n 
URL:https://votereducation.spr.gov.my/event/pemerhati-pilihanraya-smkap-al-mashoor-pulau-pinang/
CATEGORIES:latihan,Pendidikan Pengundi
END:VEVENT
BEGIN:VEVENT
DTSTART;TZID=Asia/Kuala_Lumpur:20250221T080000
DTEND;TZID=Asia/Kuala_Lumpur:20250221T170000
DTSTAMP:20260426T012955
CREATED:20250221T083043Z
LAST-MODIFIED:20250221T092134Z
UID:69943-1740124800-1740157200@votereducation.spr.gov.my
SUMMARY:TAKLIMAT RO DAN ARO PRU DUN SABAH KE-17
DESCRIPTION:TAKLIMAT PEGAWAI PENGURUS DAN PENOLONG PEGAWAI PENGURUS BAGI PERSEDIAAN PILIHAN RAYA UMUM DEWAN UNDANGAN SABAH KE-17 \nTARIKH : 19 FEBRUARI 2025 (RABU)\nMASA : 9.30 PAGI – 4.30 PETANG\nTEMPAT : PROMENADE HOTEL\, KOTA KINABALU\, SABAH\nBIL. PESERTA : 199/221 ORANG \nPENCERAMAH :\nEN. HASANUL ISYRAF BIN NAIM \n  \n 
URL:https://votereducation.spr.gov.my/event/taklimat-ro-dan-aro-pru-dun-sabah-ke-17/
CATEGORIES:latihan,Pilihan Raya
END:VEVENT
BEGIN:VEVENT
DTSTART;TZID=Asia/Kuala_Lumpur:20250221T080000
DTEND;TZID=Asia/Kuala_Lumpur:20250221T170000
DTSTAMP:20260426T012955
CREATED:20250221T080700Z
LAST-MODIFIED:20250221T080746Z
UID:69904-1740124800-1740157200@votereducation.spr.gov.my
SUMMARY:TAKLIMAT PENGUNDIAN DAN PENGIRAAN PRU DUN SABAH KE-17 (ZON PANTAI BARAT UTARA)
DESCRIPTION:TAKLIMAT PENGURUSAN PENGUNDIAN DAN PENGIRAAN UNDI BAGI PERSEDIAAN PILIHAN RAYA UMUM DEWAN UNDANGAN SABAH KE-17 (ZON PANTAI BARAT UTARA) \nTARIKH : 18 FEBRUARI 2025 (SELASA)\nMASA : 9.00 PAGI – 1.00 TENGAH HARI\nTEMPAT : PROMENADE HOTEL\, KOTA KINABALU\, SABAH\nBIL. PESERTA : 122/157 ORANG \nPENCERAMAH :\nPN. MALISA BINTI LAMBO \n 
URL:https://votereducation.spr.gov.my/event/taklimat-pengundian-dan-pengiraan-pru-dun-sabah-ke-17-zon-pantai-barat-utara/
CATEGORIES:latihan,Pilihan Raya
END:VEVENT
BEGIN:VEVENT
DTSTART;TZID=Asia/Kuala_Lumpur:20250219T080000
DTEND;TZID=Asia/Kuala_Lumpur:20250219T170000
DTSTAMP:20260426T012955
CREATED:20250618T034736Z
LAST-MODIFIED:20250618T034736Z
UID:71910-1739952000-1739984400@votereducation.spr.gov.my
SUMMARY:TAKLIMAT RO DAN ARO PRU DUN SABAH KE-17
DESCRIPTION:TAKLIMAT PEGAWAI PENGURUS DAN PENOLONG PEGAWAI PENGURUS BAGI PERSEDIAAN PILIHAN RAYA UMUM DEWAN UNDANGAN SABAH KE-17 \nTARIKH : 19 FEBRUARI 2025 (RABU)\nMASA : 9.30 PAGI – 4.30 PETANG\nTEMPAT : PROMENADE HOTEL\, KOTA KINABALU\, SABAH\nBIL. PESERTA : 199/221 ORANG \nPENCERAMAH :\nEN. HASANUL ISYRAF BIN NAIM
URL:https://votereducation.spr.gov.my/event/taklimat-ro-dan-aro-pru-dun-sabah-ke-17-2/
CATEGORIES:latihan,Pilihan Raya
END:VEVENT
BEGIN:VEVENT
DTSTART;TZID=Asia/Kuala_Lumpur:20250219T080000
DTEND;TZID=Asia/Kuala_Lumpur:20250219T170000
DTSTAMP:20260426T012955
CREATED:20250304T021548Z
LAST-MODIFIED:20250304T021607Z
UID:70085-1739952000-1739984400@votereducation.spr.gov.my
SUMMARY:VE BERSAMA ILP ARUMMUGAM PILLAI NIBONG TEBAL\, PENANG
DESCRIPTION:PROGRAM PENDIDIKAN PENGUNDI PPN PULAU PINANG  \nLaporan VE Bersama Institut Latihan Perindustrian Arummugum Pillai Nibong Tebal  \nTarikh: 19.02.2025(Rabu)  \nMasa : 9.30 pg – 12.30Tgh  \nTempat : Dewan Utama ILP  \nJumlah Peserta : 200 Org  \nPenceramah bagi sesi berikut;  \nPenceramah: Mohamad Azwan Bin Abu Bakar – Pengenalan Mohamad Amirul bin Noh Muhammad – Simulasi Siti Nursyuhada bt Md Hassan – Pengiraan Najib Bin Mohd Kassim – kahoot  \nTurut hadir bersama: -TPPN P.Pinang -CC Pendaftaran  \n  \n\n  \n 
URL:https://votereducation.spr.gov.my/event/ve-bersama-ilp-arummugam-pillai-nibong-tebal-penang/
CATEGORIES:latihan,Pendidikan Pengundi
END:VEVENT
BEGIN:VEVENT
DTSTART;TZID=Asia/Kuala_Lumpur:20250218T080000
DTEND;TZID=Asia/Kuala_Lumpur:20250218T170000
DTSTAMP:20260426T012955
CREATED:20250304T024351Z
LAST-MODIFIED:20250304T024408Z
UID:70129-1739865600-1739898000@votereducation.spr.gov.my
SUMMARY:VE PPN KELANTAN BERSAMA POLYTECH MARA
DESCRIPTION:PROGRAM PENDIDIKAN PENGUNDI(VE) PPN KELANTAN  \nTempat: Kolej PolyTech Mara  \nTARIKH : 18 Februari 2025   \nMASA : 10.00-1.00 tgh     \nJUMLAH PESERTA : 150 orang     \nPU: En Zalin Sidek Zakaria  \nPPU: Pn Suriya Mat Yusof  \nPn Siti Syarah Mohd Fouzi  \n 
URL:https://votereducation.spr.gov.my/event/ve-ppn-kelantan-bersama-polytech-mara/
CATEGORIES:latihan,Pendidikan Pengundi
END:VEVENT
BEGIN:VEVENT
DTSTART;TZID=Asia/Kuala_Lumpur:20250218T080000
DTEND;TZID=Asia/Kuala_Lumpur:20250218T170000
DTSTAMP:20260426T012955
CREATED:20250221T080037Z
LAST-MODIFIED:20250221T080057Z
UID:69870-1739865600-1739898000@votereducation.spr.gov.my
SUMMARY:TAKLIMAT UNDI POS PRU DUN SABAH KE - 17 (ZON PANTAI BARAT UTARA)
DESCRIPTION:TAKLIMAT PENGURUSAN UNDI POS BAGI PERSEDIAAN PILIHAN RAYA UMUM DEWAN UNDANGAN SABAH KE-17 (ZON PANTAI BARAT UTARA) \nTARIKH : 18 FEBRUARI 2025 (SELASA)\nMASA : 9.00 PAGI – 1.00 TENGAH HARI\nTEMPAT : PROMENADE HOTEL\, KOTA KINABALU\, SABAH\nBIL. PESERTA : 89/124 ORANG \nPENCERAMAH :\nEN. HASANUL ISYRAF BIN NAIM \n  \n 
URL:https://votereducation.spr.gov.my/event/taklimat-undi-pos-pru-dun-sabah-ke-17-zon-pantai-barat-utara/
CATEGORIES:latihan,Pilihan Raya
END:VEVENT
BEGIN:VEVENT
DTSTART;TZID=Asia/Kuala_Lumpur:20250209T080000
DTEND;TZID=Asia/Kuala_Lumpur:20250209T170000
DTSTAMP:20260426T012955
CREATED:20250304T034407Z
LAST-MODIFIED:20250304T034507Z
UID:70174-1739088000-1739120400@votereducation.spr.gov.my
SUMMARY:VE BERSAMA IPG TEMENGGONG IBRAHIM JOHOR BAHRU
DESCRIPTION:PROGRAM PENDIDIKAN PENGUNDI PPN NEGERI JOHOR\n&\nPEMERHATI HARI PILIHAN RAYA KAMPUS IPG TEMENGGONG IBRAHIM JOHOR BAHRU \nTEMPAT : IPG TEMENGGONG IBRAHIM JOHOR BAHRU \nTARIKH :9 FEBUARI (VE) 2025\n13 FEBRUARI 2025\n(PEMERHATI PILIHANRAYA KAMPUS) \nMASA : 8.00 PAGI \nJUMLAH PESERTA : 1\,060 ORANG \nPEGAWAI TERLIBAT: \n1. Mohad azhar bin nasaruddin\n2. Siti nur rasyadah binti mustapha kamal\n3. Norlia binti ibrahim\n4. Juliana binti tumirin\n5. Haslinda binti hassan \n 
URL:https://votereducation.spr.gov.my/event/ve-bersama-ipg-temenggong-ibrahim-johor-bahru/
CATEGORIES:latihan,Pendidikan Pengundi
END:VEVENT
BEGIN:VEVENT
DTSTART;TZID=Asia/Kuala_Lumpur:20240908T080000
DTEND;TZID=Asia/Kuala_Lumpur:20240908T170000
DTSTAMP:20260426T012955
CREATED:20240909T073409Z
LAST-MODIFIED:20240909T073809Z
UID:68260-1725782400-1725814800@votereducation.spr.gov.my
SUMMARY:TAKLIMAT PARTI POLITIK PRK N.29 MAHKOTA\, JOHOR
DESCRIPTION:TAKLIMAT PETUGAS PARTI POLITIK BAGI PILIHAN RAYA KECIL (PRK) DEWAN NEGERI N.29 MAHKOTA. JOHOR \nTARIKH : 8 SEPTEMBER 2024 (AHAD)\nMASA : 10.00 PAGI – 1.00 PETANG\nTEMPAT : DEWAN JUBLI INTAN SULTAN IBRAHIM \nPENCERAMAH :\n1. EN. NIK AMINUDIN BIN NIK SHAHAR SHAH\n2. EN. FARIHAN BIN MOHAMAD TAIB \n 
URL:https://votereducation.spr.gov.my/event/taklimat-parti-politik-prk-n-29-mahkota-johor/
CATEGORIES:latihan,Pilihan Raya
END:VEVENT
BEGIN:VEVENT
DTSTART;TZID=Asia/Kuala_Lumpur:20240829T080000
DTEND;TZID=Asia/Kuala_Lumpur:20240829T170000
DTSTAMP:20260426T012955
CREATED:20240905T070808Z
LAST-MODIFIED:20240905T070844Z
UID:67789-1724918400-1724950800@votereducation.spr.gov.my
SUMMARY:VE BERSAMA ILKKM KANGAR\, PERLIS
DESCRIPTION:PROGRAM PENDIDIKAN PENGUNDI BERSAMA INSTITUT LATIHAN KEMENTERIAN KESIHATAN MALAYSIA (ILKKM) (KEJURURAWATAN) KANGAR\, PERLIS \nTARIKH : 29 OGOS 2024 (KHAMIS)\nMASA : 10.00 PAGI – 12.00 TENGAH HARI\nTEMPAT : BILIK KULIAH 3\, ILKKM KANGAR\nBIL. PESERTA : 110 ORANG \nPENCERAMAH :\nPN. MALISA BINTI LAMBO \n 
URL:https://votereducation.spr.gov.my/event/ve-bersama-ilkkm-kangar-perlis-2/
CATEGORIES:latihan,Pendidikan Pengundi
END:VEVENT
BEGIN:VEVENT
DTSTART;TZID=Asia/Kuala_Lumpur:20240827T080000
DTEND;TZID=Asia/Kuala_Lumpur:20240827T170000
DTSTAMP:20260426T012955
CREATED:20240830T021411Z
LAST-MODIFIED:20240830T021558Z
UID:67183-1724745600-1724778000@votereducation.spr.gov.my
SUMMARY:TAKLIMAT UNDI POS PRK N.29 MAHKOTA\, JOHOR
DESCRIPTION:TAKLIMAT UNDI POS BAGI PILIHAN RAYA KECIL (PRK) DEWAN NEGERI N.29 MAHKOTA JOHOR \nTEMPAT: BILIK MESYUARAT TUN DR. MAHATHIR\, WISMA MAJLIS PERBANDARAN KLUANG\, JOHOR\nTARIKH: 27 OGOS 2024 (SELASA) \nPENCERAMAH: EN. FARIHAN BIN MOHAMAD TAIB \n 
URL:https://votereducation.spr.gov.my/event/taklimat-undi-pos-prk-n-29-mahkota-johor/
CATEGORIES:latihan,Pilihan Raya
END:VEVENT
END:VCALENDAR