BEGIN:VCALENDAR
VERSION:2.0
PRODID:-//Portal Pendidikan Pengundi - ECPv5.6.0//NONSGML v1.0//EN
CALSCALE:GREGORIAN
METHOD:PUBLISH
X-WR-CALNAME:Portal Pendidikan Pengundi
X-ORIGINAL-URL:https://votereducation.spr.gov.my
X-WR-CALDESC:Events for Portal Pendidikan Pengundi
BEGIN:VTIMEZONE
TZID:Asia/Kuala_Lumpur
BEGIN:STANDARD
TZOFFSETFROM:+0800
TZOFFSETTO:+0800
TZNAME:+08
DTSTART:20250101T000000
END:STANDARD
END:VTIMEZONE
BEGIN:VEVENT
DTSTART;TZID=Asia/Kuala_Lumpur:20260303T080000
DTEND;TZID=Asia/Kuala_Lumpur:20260305T170000
DTSTAMP:20260425T220106
CREATED:20260224T040913Z
LAST-MODIFIED:20260224T041130Z
UID:74767-1772524800-1772730000@votereducation.spr.gov.my
SUMMARY:Bengkel Kertas Undi Kosong
DESCRIPTION:
URL:https://votereducation.spr.gov.my/event/bengkel-kertas-undi-kosong/
LOCATION:PPN KELANTAN\, KELANTAN
CATEGORIES:latihan
END:VEVENT
BEGIN:VEVENT
DTSTART;TZID=Asia/Kuala_Lumpur:20260225T083000
DTEND;TZID=Asia/Kuala_Lumpur:20260227T170000
DTSTAMP:20260425T220106
CREATED:20260224T035439Z
LAST-MODIFIED:20260224T035439Z
UID:74759-1772008200-1772211600@votereducation.spr.gov.my
SUMMARY:JawatanKuasa Pembangunan Modul Pilihan Raya (EMDeC) Bil. 1/2026
DESCRIPTION:
URL:https://votereducation.spr.gov.my/event/jawatankuasa-pembangunan-modul-pilihan-raya-emdec-bil-1-2026/
LOCATION:PPN PULAUPINANG
CATEGORIES:latihan
END:VEVENT
BEGIN:VEVENT
DTSTART;VALUE=DATE:20260127
DTEND;VALUE=DATE:20260130
DTSTAMP:20260425T220106
CREATED:20260123T075931Z
LAST-MODIFIED:20260123T080114Z
UID:74745-1769472000-1769731199@votereducation.spr.gov.my
SUMMARY:BENGKEL PERSEDIAAN BAGI PRU DUN JOHOR KE 16
DESCRIPTION:BENGKEL PERSEDIAAN BAGI PRU DUN JOHOR KE 16 \nTARIKH : 27 – 29 JANUARI 2026 \nTEMPAT : LOTUS DESARU BEACH RESORT & SPA \nPEGAWAI  HADIR : \n\nEN. HASANUL ISYRAF BIN NAIM\nEN. NIK AMINUDIN BIN NIK SHAHAR SHAH\nPN. MALISA BINTI LAMBO\nEN. MUHAMMAD HAKIMI BIN HARUN\n\n 
URL:https://votereducation.spr.gov.my/event/bengkel-persediaan-bagi-pru-dun-johor-ke-16/
CATEGORIES:latihan
END:VEVENT
BEGIN:VEVENT
DTSTART;TZID=Asia/Kuala_Lumpur:20260113T090000
DTEND;TZID=Asia/Kuala_Lumpur:20260113T130000
DTSTAMP:20260425T220106
CREATED:20260122T095016Z
LAST-MODIFIED:20260122T095016Z
UID:74725-1768294800-1768309200@votereducation.spr.gov.my
SUMMARY:SESI SIMULASI PENGHANTARAN KEPUTUSAN PILIHAN RAYA (BORANG 13 DAN BORANG 14) MELALUI APLIKASI MySPR KTM MOBILE
DESCRIPTION:SESI SIMULASI PENGHANTARAN KEPUTUSAN PILIHAN RAYA (BORANG 13 DAN BORANG 14) MELALUI APLIKASI MySPR KTM MOBILE \nTARIKH : 13 JANUARI 2026 \nMASA : 9.00PAGI – 1.00 PETANG \nTEMPAT : DEWAN SERBAGUNA SPR \nPENCERAMAH : EN. HASANUL ISYRAF BIN NAIM
URL:https://votereducation.spr.gov.my/event/sesi-simulasi-penghantaran-keputusan-pilihan-raya-borang-13-dan-borang-14-melalui-aplikasi-myspr-ktm-mobile/
LOCATION:dewan serbaguna spr\, PUTRAJAYA\, Malaysia
CATEGORIES:latihan
END:VEVENT
BEGIN:VEVENT
DTSTART;TZID=Asia/Kuala_Lumpur:20260109T083000
DTEND;TZID=Asia/Kuala_Lumpur:20260109T083000
DTSTAMP:20260425T220106
CREATED:20260122T085034Z
LAST-MODIFIED:20260122T085750Z
UID:74703-1767947400-1767947400@votereducation.spr.gov.my
SUMMARY:TAKLIMAT PEMERHATI PILIHAN RAYA KECIL (PRK) PARLIMEN P. 187 KINABATANGAN DAN DEWAN UNDANGAN NEGERI N.58 LAMAG
DESCRIPTION:TAKLIMAT PEMERHATI PILIHAN RAYA KECIL (PRK) PARLIMEN P. 187 KINABATANGAN DAN DEWAN UNDANGAN NEGERI N.58 LAMAG \nTARIKH : 9 JANUARI 2026 \nMASA : 9.00 – 11.00 PAGI \nTEMPAT : HALL 1\, HOTEL LIVINGSTON\, SANDAKAN \nPENCERAMAH : EN. NIK AMINUDIN BIN NIK SHAHAR SHAH \nKEHADIRAN : 10 ORANG \n 
URL:https://votereducation.spr.gov.my/event/taklimat-pemerhati-pilihan-raya-kecil-prk-parlimen-p-187-kinabatangan-dan-dewan-undangan-negeri-n-58-lamag/
CATEGORIES:latihan
END:VEVENT
BEGIN:VEVENT
DTSTART;TZID=Asia/Kuala_Lumpur:20250829T080000
DTEND;TZID=Asia/Kuala_Lumpur:20250829T170000
DTSTAMP:20260425T220106
CREATED:20250910T041626Z
LAST-MODIFIED:20250910T041645Z
UID:74590-1756454400-1756486800@votereducation.spr.gov.my
SUMMARY:TAKLIMAT BERKAITAN DENGAN PERANAN POLİS DIRAJA MALAYSIA DALAM URUSAN PILIHAN RAYA
DESCRIPTION:TAKLIMAT BERKAITAN DENGAN PERANAN POLİS DIRAJA MALAYSIA DALAM URUSAN PILIHAN RAYA \nTARIKH : 29 Ogos 2025 (Jumaat)\nMASA : 10.00pg – 12.00tgh\nTEMPAT : Dewan Tan Sri Abdul Rahman bin Hashim\nBIL. PESERTA : 338 orang \nPENCERAMAH :\nEn. Nik Aminuddin bin Nik Shahar Shah \n 
URL:https://votereducation.spr.gov.my/event/taklimat-berkaitan-dengan-peranan-polis-diraja-malaysia-dalam-urusan-pilihan-raya/
CATEGORIES:latihan,Pendidikan Pengundi
END:VEVENT
BEGIN:VEVENT
DTSTART;TZID=Asia/Kuala_Lumpur:20250828T080000
DTEND;TZID=Asia/Kuala_Lumpur:20250828T170000
DTSTAMP:20260425T220106
CREATED:20250910T041908Z
LAST-MODIFIED:20250910T042258Z
UID:74612-1756368000-1756400400@votereducation.spr.gov.my
SUMMARY:VE - TAKLIMAT KEMENTERIAN KESIHATAN MALAYSIA (KKM)
DESCRIPTION:Program Pendidikan Pengundi (Voter Education- Awam) bersama warga Kementerian Kesihatan Malaysia (KKM) \nTARIKH : 28 Ogos 2025 (Rabu)\nMASA : 10.00pg – 12.00tgh\nTEMPAT : Dewan Serbaguna\, Kementerian Kesihatan Malaysia\nBIL. PESERTA : 105 orang \nPENCERAMAH :\nCik Siti Naziha binti Azman \n 
URL:https://votereducation.spr.gov.my/event/ve-taklimat-kementerian-kesihatan-malaysia-kkm/
CATEGORIES:latihan,Pendidikan Pengundi
END:VEVENT
BEGIN:VEVENT
DTSTART;TZID=Asia/Kuala_Lumpur:20250827T080000
DTEND;TZID=Asia/Kuala_Lumpur:20250827T170000
DTSTAMP:20260425T220107
CREATED:20250910T040037Z
LAST-MODIFIED:20250910T040351Z
UID:74568-1756281600-1756314000@votereducation.spr.gov.my
SUMMARY:VE - KOLEJ KEMAHIRAN TINGGI MARA BALIK PULAU\, PULAU PINANG
DESCRIPTION:*Laporan Pemilihan Majlis Pelantikan Pelajar (MPP) Kolej Kemahiran Tinggi Mara Balik Pulau\, Pulau Pinang* \nTarikh : 27.08.2025 (Rabu)\nMasa : 2.00 pm-5.00 pm\nTempat : Dewan AlJazari\,Kemahiran Tinggi Mara Balik Pulau\, Pulau Pinang\nJumlah Pelajar : 450 \n-Kolej Kemahiran Tinggi Mara (KKTM) Balik Pulau telah mengadakan Pemilihan Majlis Pewakilan Pelajar (MPP) Sesi 2025/2026 dan menjemput pihak PPN Pulau Pinang hadir sebagai Pemerhati. \n-Kehadiran PPN juga disambut baik oleh Pengarah KKTM\, Encik Mohd Hazlen bin Ramli dan Penyelaras Pilihanraya Kampus\, Encik Muhamad Naim bin Othman. \n-Pemilihan dijalankan secara berperingkat oleh pelajar-pelajar sem 1 hingga sem 4 seramai 450 orang bagi memilih 20 calon pelajar daripada 39 calon pelajar yang bertanding. \n-Pemilihan juga dijalankan secara digital dimana pelajar yang hadir akan scan QR sebagai tanda hadir mengundi seterusnya ke petak undi untuk memilih calon dengan menggunakan laptop yg disediakan. \n-Majlis berjalan dengan lancar sehingga tamat tempoh mengundi pada pukul 5.00 pm. \nWakil PPN Pulau Pinang yang hadir: \n1. Puan Fatin Nadia binti Che Daud\n2. Encik Muhammad Taqiyuddin bin Mohd Sukri \nSekian\, terima kasih \nPPN PULAU PINANG\nPROGRAM PENDIDIKAN PENGUNDI DENGAN KERJASAMA JAPEN TAMBUNAN BERSAMA PUSAT TINGKATAN 6\, SMK. TAMBUNAN \nTARIKH : 26 OGOS 2025\n**TAKLIMAT PETUGAS MPP\n**25 ORANG \nTARIKH : 27 OGOS 2025\n**PENGUNDIAN PEMILIHAN NYDP\, SETIAUSAHA DAN BENDAHARI \nTARIKH : 28 OGOS 2025\n**PENGUNDIAN PEMILIHAN YDP \nTEMPAT : DEWAN ANTHONY GIBUN\, SMK. TAMBUNAN\nMASA : 7.30 PAGI \nJUMLAH PELAJAR TINGKATAN 6 SERAMAI 350 PELAJAR \nPEGAWAI TERLIBAT \n1. EBUR BIN SABTAR\n2. SURIANI BINTI MUMIN\n3. DAMIE ANAK UKAR \nPPN SABAH \nSEKIAN\, TERIMA KASIH \n  \n 
URL:https://votereducation.spr.gov.my/event/ve-kolej-kemahiran-tinggi-mara-balik-pulau-pulau-pinang/
CATEGORIES:latihan,Pendidikan Pengundi
END:VEVENT
BEGIN:VEVENT
DTSTART;TZID=Asia/Kuala_Lumpur:20250827T080000
DTEND;TZID=Asia/Kuala_Lumpur:20250827T170000
DTSTAMP:20260425T220107
CREATED:20250910T035613Z
LAST-MODIFIED:20250910T035810Z
UID:74557-1756281600-1756314000@votereducation.spr.gov.my
SUMMARY:VE - SMK ROMPIN\, PAHANG
DESCRIPTION:PROGRAM PENDIDIKAN PENGUNDI BERSAMA KELAB MALAYSIA JAPEN PAHANG \nTARIKH : 27 OGOS 2025 [RABU]\nTEMPAT : SMK ROMPIN\nMASA : 10.00 PAGI \nJUMLAH PELAJAR TINGKATAN 6 SERAMAI 60 PELAJAR \nPEGAWAI TERLIBAT \n1. KHAIRUNISAH BT ABD KARIM\n2. ROHAIDA BT HUSSAIN\n3. AHMAD SABRI BIN MOHAMAD IDRIS \nSEKIAN\, TERIMA KASIH \n  \n 
URL:https://votereducation.spr.gov.my/event/ve-smk-rompin-pahang/
CATEGORIES:latihan,Pendidikan Pengundi
END:VEVENT
BEGIN:VEVENT
DTSTART;TZID=Asia/Kuala_Lumpur:20250826T080000
DTEND;TZID=Asia/Kuala_Lumpur:20250828T170000
DTSTAMP:20260425T220107
CREATED:20250910T035224Z
LAST-MODIFIED:20250910T072541Z
UID:74492-1756195200-1756400400@votereducation.spr.gov.my
SUMMARY:VE - SMK TAMBUNAN\, SABAH
DESCRIPTION:PROGRAM PENDIDIKAN PENGUNDI DENGAN KERJASAMA JAPEN TAMBUNAN BERSAMA PUSAT TINGKATAN 6\, SMK. TAMBUNAN \nTARIKH : 26 OGOS 2025\n**TAKLIMAT PETUGAS MPP\n**25 ORANG \nTARIKH : 27 OGOS 2025\n**PENGUNDIAN PEMILIHAN NYDP\, SETIAUSAHA DAN BENDAHARI \nTARIKH : 28 OGOS 2025\n**PENGUNDIAN PEMILIHAN YDP \nTEMPAT : DEWAN ANTHONY GIBUN\, SMK. TAMBUNAN\nMASA : 7.30 PAGI \nJUMLAH PELAJAR TINGKATAN 6 SERAMAI 350 PELAJAR \nPEGAWAI TERLIBAT \n1. EBUR BIN SABTAR\n2. SURIANI BINTI MUMIN\n3. DAMIE ANAK UKAR \nPPN SABAH \n  \n 
URL:https://votereducation.spr.gov.my/event/ve-smk-tambunan-sabah/
CATEGORIES:latihan,Pendidikan Pengundi
END:VEVENT
BEGIN:VEVENT
DTSTART;TZID=Asia/Kuala_Lumpur:20250826T080000
DTEND;TZID=Asia/Kuala_Lumpur:20250826T170000
DTSTAMP:20260425T220107
CREATED:20250910T072820Z
LAST-MODIFIED:20250910T072917Z
UID:74660-1756195200-1756227600@votereducation.spr.gov.my
SUMMARY:Program Pembinaan Karakter Bangsa Malaysia Pelajar Tingkatan 6 Kohort 2 Peringkat Negeri Sembilan Tahun 2025
DESCRIPTION:Program Pembinaan Karakter Bangsa Malaysia Pelajar Tingkatan 6 Kohort 2 Peringkat Negeri Sembilan Tahun 2025 \nTARIKH : 26 Ogos 2025 (Selasa)\nMASA : 10.30 pg – 12.00 Tengah Hari\nTEMPAT : Klana Resort\, Seremban\nBIL. PESERTA : 104 orang \nPENCERAMAH :\n1. Cik Siti Naziha binti Azman \nTurut Hadir :\nEn. Kamarul Azman bin Ahmad \n  \n 
URL:https://votereducation.spr.gov.my/event/program-pembinaan-karakter-bangsa-malaysia-pelajar-tingkatan-6-kohort-2-peringkat-negeri-sembilan-tahun-2025/
CATEGORIES:latihan,Pendidikan Pengundi
END:VEVENT
BEGIN:VEVENT
DTSTART;TZID=Asia/Kuala_Lumpur:20250821T080000
DTEND;TZID=Asia/Kuala_Lumpur:20250821T170000
DTSTAMP:20260425T220107
CREATED:20250904T025902Z
LAST-MODIFIED:20250904T031227Z
UID:74447-1755763200-1755795600@votereducation.spr.gov.my
SUMMARY:VE - SMK PENGIRAN OMAR\, SIPITANG
DESCRIPTION:ASSALAMUALAIKUM WBT\, \nPROGRAM PENDIDIKAN PENGUNDI ANJURAN JABATAN PENERANGAN DAERAH SIPITANG \n– TAKLIMAT DAN SIMULASI PILIHAN RAYA \nTEMPAT : SMK. PENGIRAN OMAR\, SIPITANG\nTARIKH : 21 OGOS 2025\nMASA : 7.30 PAGI-12.00 TENGAHARI \nJUMLAH PESERTA : 120 ORANG \nPEGAWAI TERLIBAT:\n1. IZMAT RAZWAN BIN MAMAT\n2. EBUR BIN SABTAR\n3. JOE LE REY KASIMIN \nPPN SABAH \nSekian\, terima kasih \n  \n\n 
URL:https://votereducation.spr.gov.my/event/ve-smk-pengiran-omar-sipitang/
CATEGORIES:latihan,Pendidikan Pengundi
END:VEVENT
BEGIN:VEVENT
DTSTART;TZID=Asia/Kuala_Lumpur:20250820T080000
DTEND;TZID=Asia/Kuala_Lumpur:20250820T170000
DTSTAMP:20260425T220107
CREATED:20250910T040703Z
LAST-MODIFIED:20250910T040817Z
UID:74580-1755676800-1755709200@votereducation.spr.gov.my
SUMMARY:VE - UNIVERSITI MALAYSIA TERENGGANU (UMT)
DESCRIPTION:LAWATAN ROMBONGAN DARIPADA JAWATANKUASA PILIHAN RAYA KAMPUS (JPRK)\nUNIVERSITI MALAYSIA TERENGGANU (UMT)\nTARIKH: 20 OGOS 2025 (RABU)\nMASA: 9.00 PAGI – 1.00 TENGAH HARI\nTEMPAT: AUDITORIUM\, ARAS 2\, MENARA SPR\nKEHADIRAN: 28 ORANG \n 
URL:https://votereducation.spr.gov.my/event/ve-universiti-malaysia-terengganu-umt/
CATEGORIES:latihan,Pendidikan Pengundi
END:VEVENT
BEGIN:VEVENT
DTSTART;TZID=Asia/Kuala_Lumpur:20250820T080000
DTEND;TZID=Asia/Kuala_Lumpur:20250820T170000
DTSTAMP:20260425T220107
CREATED:20250904T024748Z
LAST-MODIFIED:20250904T025404Z
UID:74434-1755676800-1755709200@votereducation.spr.gov.my
SUMMARY:VE - SMK PUTRA\, PERLIS
DESCRIPTION:ASSALAMUALAIKUM WBT\, \nPROGRAM PENDIDIKAN PENGUNDI PPN NEGERI PERLIS \n– TAKLIMAT DAN SIMULASI PILIHAN RAYA \nTEMPAT : SMK PUTRA\nTARIKH : 20 OGOS 2025\nMASA : 8.00 PAGI \nJUMLAH PESERTA : *130 ORANG* \nPEGAWAI TERLIBAT: \nP/U :\n1. NUR SHIEMA BT HALIM\n2. IDA NORIMI BT IDRIS \nPEM. P/U :\n1. NORMI BT MD ZAIN\n2. NOR’AIN BT HAMID \nSekian\, terima kasih \n  \n\n 
URL:https://votereducation.spr.gov.my/event/ve-smk-putra-perlis/
CATEGORIES:latihan,Pendidikan Pengundi
END:VEVENT
BEGIN:VEVENT
DTSTART;TZID=Asia/Kuala_Lumpur:20250820T080000
DTEND;TZID=Asia/Kuala_Lumpur:20250820T170000
DTSTAMP:20260425T220107
CREATED:20250904T024043Z
LAST-MODIFIED:20250904T024205Z
UID:74406-1755676800-1755709200@votereducation.spr.gov.my
SUMMARY:VE - SMK TANDEK\, SMK KOTA MARUDU\, SMK BANDAU DAN SMK LANGKON
DESCRIPTION:ASSALAMUALAIKUM WBT\, \nPROGRAM PENDIDIKAN PENGUNDI ANJURAN JABATAN PENERANGAN DAERAH KOTA MARUDU BERSAMA SMK. TANDEK\, SMK. KOTA MARUDU\, SMK. BANDAU DAN SMK. LANGKON \n– TAKLIMAT DAN SIMULASI PILIHAN RAYA \nTEMPAT : SMK. TANDEK\nTARIKH : 20 OGOS 2025\nMASA : 8.00 PAGI-12.00 TENGAHARI \nJUMLAH PESERTA : 300 ORANG \nPEGAWAI TERLIBAT:\n1. IZMAT RAZWAN BIN MAMAT\n2. EBUR BIN SABTAR\n3. ⁠SABINUS YUNTOG \nSekian\, terima kasih
URL:https://votereducation.spr.gov.my/event/ve-smk-tandek-smk-kota-marudu-smk-bandau-dan-smk-langkon/
CATEGORIES:latihan,Pendidikan Pengundi
END:VEVENT
BEGIN:VEVENT
DTSTART;TZID=Asia/Kuala_Lumpur:20250819T080000
DTEND;TZID=Asia/Kuala_Lumpur:20250819T170000
DTSTAMP:20260425T220107
CREATED:20250820T080413Z
LAST-MODIFIED:20250820T080413Z
UID:74199-1755590400-1755622800@votereducation.spr.gov.my
SUMMARY:VE - INSTITUT KEMAHIRAN MARA TAN SRI YAHAYA AHMAD\, PEKAN
DESCRIPTION:Program Pendidikan Pengundi bersama Institut Kemahiran MARA Tan Sri Yahaya Ahmad\, Pekan \nTARIKH : 19 Ogos 2025 (Selasa)\nMASA : 9.00pg – 12.00tgh\nTEMPAT : Dewan Teknologi Abdul Aziz\,IKM TSYA\nBIL. PESERTA : 789 orang \nPENCERAMAH :\nCik Siti Naziha binti Azman \n  \n 
URL:https://votereducation.spr.gov.my/event/ve-institut-kemahiran-mara-tan-sri-yahaya-ahmad-pekan/
CATEGORIES:latihan,Pendidikan Pengundi
END:VEVENT
BEGIN:VEVENT
DTSTART;TZID=Asia/Kuala_Lumpur:20250818T080000
DTEND;TZID=Asia/Kuala_Lumpur:20250819T170000
DTSTAMP:20260425T220107
CREATED:20250820T075914Z
LAST-MODIFIED:20250820T075959Z
UID:74178-1755504000-1755622800@votereducation.spr.gov.my
SUMMARY:VE - KURSUS UNDANG-UNDANG PILIHAN RAYA - PERUNDANGAN DAN PROSEDUR
DESCRIPTION:KURSUS UNDANG-UNDANG PILIHAN RAYA – PERUNDANGAN DAN PROSEDUR \nTARIKH : 18 & 19 OGOS 2025 (ISNIN & SELASA)\nMASA : 8.30 PAGI – 4.30 PETANG\nTEMPAT : KAMPUS AKADEMI PERUNDANGAN NEGARA (APN)\, SELANGOR \nPENCERAMAH : EN. HASANUL ISYRAF BIN NAIM \n 
URL:https://votereducation.spr.gov.my/event/ve-kursus-undang-undang-pilihan-raya-perundangan-dan-prosedur/
CATEGORIES:latihan,Pilihan Raya
END:VEVENT
BEGIN:VEVENT
DTSTART;TZID=Asia/Kuala_Lumpur:20250818T080000
DTEND;TZID=Asia/Kuala_Lumpur:20250818T170000
DTSTAMP:20260425T220107
CREATED:20250820T080759Z
LAST-MODIFIED:20250820T080940Z
UID:74250-1755504000-1755536400@votereducation.spr.gov.my
SUMMARY:KURSUS PEMANTAPAN PENGURUSAN PPC DAN PPRU PERINGKAT PEJABAT PILIHAN RAYA NEGERI MELAKA TAHUN 2025
DESCRIPTION:KURSUS PEMANTAPAN PENGURUSAN PPC DAN PPRU PERINGKAT PEJABAT PILIHAN RAYA NEGERI MELAKA TAHUN 2025 \nTARIKH : 18 OGOS 2025 (ISNIN)\nMASA : 9.00 PAGI – 4.00 PETANG\nTEMPAT : BILIK MESYUARAT\, PEJABAT PILIHAN RAYA NEGERI MELAKA \nPENCERAMAH : EN. NIK AMINUDIN BIN NIK SHAHAR SHAH \n 
URL:https://votereducation.spr.gov.my/event/kursus-pemantapan-pengurusan-ppc-dan-ppru-peringkat-pejabat-pilihan-raya-negeri-melaka-tahun-2025/
CATEGORIES:latihan,Pilihan Raya
END:VEVENT
BEGIN:VEVENT
DTSTART;TZID=Asia/Kuala_Lumpur:20250815T080000
DTEND;TZID=Asia/Kuala_Lumpur:20250815T170000
DTSTAMP:20260425T220107
CREATED:20250820T081837Z
LAST-MODIFIED:20250820T081837Z
UID:74316-1755244800-1755277200@votereducation.spr.gov.my
SUMMARY:VE - IKM BESERI PERLIS
DESCRIPTION:Program Pendidikan Pengundi bersama Institut Kemahiran Mara (IKM) Beseri\, Perlis \nTARIKH : 15 Ogos 2025 (Jumaat)\nMASA : 9.00pg – 12.00tgh\nTEMPAT : Dewan Al-Ghazali\nBIL. PESERTA : 187 orang \nPENCERAMAH :\nEn. Muhammad Hakimi bin Harun \n  \n  \n\n 
URL:https://votereducation.spr.gov.my/event/ve-ikm-beseri-perlis/
CATEGORIES:latihan,Pendidikan Pengundi
END:VEVENT
BEGIN:VEVENT
DTSTART;TZID=Asia/Kuala_Lumpur:20250814T080000
DTEND;TZID=Asia/Kuala_Lumpur:20250814T170000
DTSTAMP:20260425T220107
CREATED:20250820T082921Z
LAST-MODIFIED:20250820T082921Z
UID:74349-1755158400-1755190800@votereducation.spr.gov.my
SUMMARY:VE - ILKKM SUNGAI BULOH\, SELANGOR
DESCRIPTION:PROGRAM PENDIDIKAN PENGUNDI BERSAMA INSTITUT LATIHAN KEMENTERIAN KESIHATAN MALAYSIA (ILKKM) SUNGAI BULOH\, SELANGOR \nTARIKH : 14 Ogos 2025 (Khamis)\nMASA : 11.30 pagi – 1.00 tengah hari\nTEMPAT : Auditorium ILKKM Sungai Buloh\nBIL. PESERTA : 500 orang \nPENCERAMAH :\nCik Siti Naziha binti Azman \nTURUT HADIR :\nEncik Kamarul Azman bin Ahmad Sabri \n  \n 
URL:https://votereducation.spr.gov.my/event/ve-ilkkm-sungai-buloh-selangor-3/
CATEGORIES:latihan,Pendidikan Pengundi
END:VEVENT
BEGIN:VEVENT
DTSTART;TZID=Asia/Kuala_Lumpur:20250730T080000
DTEND;TZID=Asia/Kuala_Lumpur:20250730T170000
DTSTAMP:20260425T220107
CREATED:20250813T074802Z
LAST-MODIFIED:20250813T074831Z
UID:73100-1753862400-1753894800@votereducation.spr.gov.my
SUMMARY:KURSUS PEMANTAPAN PENGURUSAN UNDI POS PERINGKAT PPN SARAWAK TAHUN 2025
DESCRIPTION:KURSUS PEMANTAPAN PENGURUSAN UNDI POS PERINGKAT PEJABAT PILIHAN RAYA NEGERI SARAWAK TAHUN 2025 \nTARIKH : 30 JULAI 2025 (RABU)\nMASA : 8.30 PAGI – 4.00 PETANG\nTEMPAT : BILIK MESYUARAT\, PEJABAT PILIHAN RAYA NEGERI SARAWAK \nPENCERAMAH : EN. NIK AMINUDIN BIN NIK SHAHAR SHAH \n  \n 
URL:https://votereducation.spr.gov.my/event/kursus-pemantapan-pengurusan-undi-pos-peringkat-ppn-sarawak-tahun-2025/
CATEGORIES:latihan
END:VEVENT
BEGIN:VEVENT
DTSTART;TZID=Asia/Kuala_Lumpur:20250723T080000
DTEND;TZID=Asia/Kuala_Lumpur:20250723T170000
DTSTAMP:20260425T220107
CREATED:20250813T080758Z
LAST-MODIFIED:20250813T080821Z
UID:73213-1753257600-1753290000@votereducation.spr.gov.my
SUMMARY:VE BERSAMA WARGA JABATAN PENDIDIKAN NEGERI PERAK
DESCRIPTION:PROGRAM PENDIDIKAN PENGUNDI BERSAMA WARGA JABATAN PENDIDIKAN NEGERI PERAK \nTARIKH : 23 Julai 2025 (Rabu)\nMASA : 2.00 petang- 4.00 petang\nTEMPAT : Bilik Waja Bestari\, Sektor Sumber Teknologi Pendidikan\, JPN Perak\nBIL. PESERTA : 15 orang \nPENCERAMAH :\nEn. Kamarul Azman bin Ahmad Sabri \n\n 
URL:https://votereducation.spr.gov.my/event/ve-bersama-warga-jabatan-pendidikan-negeri-perak/
CATEGORIES:latihan,Pendidikan Pengundi
END:VEVENT
BEGIN:VEVENT
DTSTART;TZID=Asia/Kuala_Lumpur:20250716T080000
DTEND;TZID=Asia/Kuala_Lumpur:20250716T170000
DTSTAMP:20260425T220107
CREATED:20250815T110313Z
LAST-MODIFIED:20250815T113026Z
UID:74111-1752652800-1752685200@votereducation.spr.gov.my
SUMMARY:TAKLIMAT PILIHANARAYA PPN KELANTAN BERSAMA IPK KELANTAN
DESCRIPTION:TAKLIMAT PILIHANARAYA PPN KELANTAN BERSAMA IPK KELANTAN \nTEMPAT : DEWAN UTAMA CAWANGAN KHAS IPK KELANTAN\nTARIKH : 16/07/2025(RABU)\nMASA : 8:30 – 10.30AM \nJUMLAH PESERTA : 50 ORANG \nPU:\nEN MOHD FADLY MOHD FAUZI \nPPU:\n1. EN ZALIN SIDEK ZAKARIA
URL:https://votereducation.spr.gov.my/event/taklimat-pilihanaraya-ppn-kelantan-bersama-ipk-kelantan/
CATEGORIES:latihan,Pilihan Raya
END:VEVENT
BEGIN:VEVENT
DTSTART;TZID=Asia/Kuala_Lumpur:20250708T080000
DTEND;TZID=Asia/Kuala_Lumpur:20250708T170000
DTSTAMP:20260425T220107
CREATED:20250813T084851Z
LAST-MODIFIED:20250813T084928Z
UID:73478-1751961600-1751994000@votereducation.spr.gov.my
SUMMARY:KURSUS PEMANTAPAN PENGURUSAN UNDI POS PERINGKAT PPN TERENGGANU TAHUN 2025
DESCRIPTION:KURSUS PEMANTAPAN PENGURUSAN UNDI POS PERINGKAT PEJABAT PILIHAN RAYA NEGERI TERENGGANU TAHUN 2025 \nTARIKH : 8 JULAI 2025 (SELASA)\nMASA : 9.00 PAGI – 4.00 PETANG\nTEMPAT : BILIK MESYUARAT GUNASAMA\, WISMA PERSEKUTUAN KUALA TERENGGANU\, TERENGGANU \nPENCERAMAH : EN. NIK AMINUDIN BIN NIK SHAHAR SHAH \n  \n 
URL:https://votereducation.spr.gov.my/event/kursus-pemantapan-pengurusan-undi-pos-peringkat-ppn-terengganu-tahun-2025/
CATEGORIES:latihan,Pendidikan Pengundi
END:VEVENT
BEGIN:VEVENT
DTSTART;TZID=Asia/Kuala_Lumpur:20250617T080000
DTEND;TZID=Asia/Kuala_Lumpur:20250617T170000
DTSTAMP:20260425T220107
CREATED:20250618T033053Z
LAST-MODIFIED:20250618T033130Z
UID:71884-1750147200-1750179600@votereducation.spr.gov.my
SUMMARY:VE - KURSUS PENGURUSAN PENAMAAN CALON & PPRU PEJABAT PPN SELANGOR 2025
DESCRIPTION:KURSUS PENGURUSAN SISTEM PENAMAAN CALON DAN PENJUMLAHAN RASMI UNDI PERINGKAT PEJABAT PILIHAN RAYA NEGERI SELANGOR TAHUN 2025 \nTARIKH : 17 JUN 2025 (SELASA)\nMASA : 9.00 PAGI – 4.00 PETANG\nTEMPAT : BILIK MESYUARAT\, PEJABAT PILIHAN RAYA NEGERI SELANGOR \nPENCERAMAH : EN. NIK AMINUDIN BIN NIK SHAHAR SHAH
URL:https://votereducation.spr.gov.my/event/ve-kursus-pengurusan-penamaan-calon-ppru-pejabat-ppn-selangor-2025/
CATEGORIES:latihan,Pilihan Raya
END:VEVENT
BEGIN:VEVENT
DTSTART;TZID=Asia/Kuala_Lumpur:20250325T080000
DTEND;TZID=Asia/Kuala_Lumpur:20250325T170000
DTSTAMP:20260425T220107
CREATED:20250617T042152Z
LAST-MODIFIED:20250617T042214Z
UID:71714-1742889600-1742922000@votereducation.spr.gov.my
SUMMARY:TAKLIMAT PETUGAS PARTI POLITIK PRK N.48 AYER KUNING
DESCRIPTION:TAKLIMAT PETUGAS PARTI POLITIK BAGI PILIHAN RAYA KECIL (PRK) DEWAN NEGERI N.48 AYER KUNING\, PERAK \nTEMPAT: DEWAN SM SAINS TAPAH\nTARIKH: 25 MAC 2025 (SELASA) \nPENCERAMAH:\nEN. KAMARUL AZMAN B. AHMAD SABRI &\nEN. MUHAMMAD HAKIMI BIN HARUN \n 
URL:https://votereducation.spr.gov.my/event/taklimat-petugas-parti-politik-prk-n-48-ayer-kuning/
CATEGORIES:latihan,Pilihan Raya
END:VEVENT
BEGIN:VEVENT
DTSTART;TZID=Asia/Kuala_Lumpur:20250325T080000
DTEND;TZID=Asia/Kuala_Lumpur:20250325T170000
DTSTAMP:20260425T220107
CREATED:20250617T041538Z
LAST-MODIFIED:20250617T041538Z
UID:71704-1742889600-1742922000@votereducation.spr.gov.my
SUMMARY:TAKLIMAT PEMERHATI PRK N.48 AYER KUNING
DESCRIPTION:TAKLIMAT PEMERHATI PILIHAN RAYA BAGI PILIHAN RAYA KECIL DEWAN NEGERI N.48 AYER KUNING\, PERAK \nTARIKH : 25 MAC 2025 (SELASA)\nMASA : 9.30 PAGI\nTEMPAT : AUDITORIUM\, ARAS 2 MENARA SPR\nBIL. PESERTA : 25 ORANG \nPENCERAMAH : CIK SITI NAZIHA BINTI AZMAN
URL:https://votereducation.spr.gov.my/event/taklimat-pemerhati-prk-n-48-ayer-kuning/
CATEGORIES:latihan,Pilihan Raya
END:VEVENT
BEGIN:VEVENT
DTSTART;TZID=Asia/Kuala_Lumpur:20250324T080000
DTEND;TZID=Asia/Kuala_Lumpur:20250324T170000
DTSTAMP:20260425T220107
CREATED:20250617T043625Z
LAST-MODIFIED:20250617T043648Z
UID:71764-1742803200-1742835600@votereducation.spr.gov.my
SUMMARY:TAKLIMAT UNDI POS PRK N.48 AYER KUNING
DESCRIPTION:TAKLIMAT PENGURUSAN UNDI POS BAGI URUSAN PRK N.48 AYER KUNING\, PERAK \nTARIKH : 24 MAC 2025 (ISNIN)\nMASA : 9.00 PAGI\nTEMPAT : PEJABAT DAERAH & TANAH BATANG PADANG \nPENCERAMAH :\nENCIK NIK AMINUDIN \n 
URL:https://votereducation.spr.gov.my/event/taklimat-undi-pos-prk-n-48-ayer-kuning/
CATEGORIES:latihan,Pilihan Raya
END:VEVENT
BEGIN:VEVENT
DTSTART;TZID=Asia/Kuala_Lumpur:20250321T080000
DTEND;TZID=Asia/Kuala_Lumpur:20250321T170000
DTSTAMP:20260425T220107
CREATED:20250617T043156Z
LAST-MODIFIED:20250617T043156Z
UID:71752-1742544000-1742576400@votereducation.spr.gov.my
SUMMARY:TAKLIMAT PDRM PRK N.48 AYER KUNING
DESCRIPTION:TAKLIMAT PDRM BAGI URUSAN PRK N.48 AYER KUNING\, PERAK \nTARIKH : 21 MAC 2025 (JUMAAT)\nMASA : 9.00 PAGI\nTEMPAT : IPD TAPAH \nPENCERAMAH :\nENCIK NIK AMINUDIN \n 
URL:https://votereducation.spr.gov.my/event/taklimat-pdrm-prk-n-48-ayer-kuning/
CATEGORIES:latihan,Pilihan Raya
END:VEVENT
BEGIN:VEVENT
DTSTART;TZID=Asia/Kuala_Lumpur:20250320T080000
DTEND;TZID=Asia/Kuala_Lumpur:20250320T170000
DTSTAMP:20260425T220107
CREATED:20250617T040532Z
LAST-MODIFIED:20250617T040532Z
UID:71610-1742457600-1742490000@votereducation.spr.gov.my
SUMMARY:TAKLIMAT KP/KPKMU PRK N.48 AYER KUNING
DESCRIPTION:TAKLIMAT PETUGAS KERANI PENGUNDIAN/KERANI MENGIRA UNDI 2\, 3 & 4 (KPKMU 2\, 3\, & 4) BAGI PILIHAN RAYA KECIL (PRK) DEWAN NEGERI N.48 AYER KUNING\, PERAK \nTEMPAT: DEWAN SM SAINS TAPAH\nTARIKH: 20 MAC 2025 (KHAMIS) \nPENCERAMAH:\nYBHG. DATO’ PUTEH HIDAYAH BINTI A.RAHMAN \n 
URL:https://votereducation.spr.gov.my/event/taklimat-kp-kpkmu-prk-n-48-ayer-kuning/
CATEGORIES:latihan,Pilihan Raya
END:VEVENT
END:VCALENDAR