BEGIN:VCALENDAR
VERSION:2.0
PRODID:-//Portal Pendidikan Pengundi - ECPv5.6.0//NONSGML v1.0//EN
CALSCALE:GREGORIAN
METHOD:PUBLISH
X-WR-CALNAME:Portal Pendidikan Pengundi
X-ORIGINAL-URL:https://votereducation.spr.gov.my
X-WR-CALDESC:Events for Portal Pendidikan Pengundi
BEGIN:VTIMEZONE
TZID:Asia/Kuala_Lumpur
BEGIN:STANDARD
TZOFFSETFROM:+0800
TZOFFSETTO:+0800
TZNAME:+08
DTSTART:20260101T000000
END:STANDARD
END:VTIMEZONE
BEGIN:VEVENT
DTSTART;TZID=Asia/Kuala_Lumpur:20260402T200000
DTEND;TZID=Asia/Kuala_Lumpur:20260402T220000
DTSTAMP:20260424T210901
CREATED:20260402T031439Z
LAST-MODIFIED:20260408T085514Z
UID:74796-1775160000-1775167200@votereducation.spr.gov.my
SUMMARY:TAKLIMAT PENGENALAN ASAS KESEDARAN MENGUNDI KEPADA PELAJAR PUSAT ASASI CAWANGAN SELANGOR KAMPUS DENGKIL
DESCRIPTION:Taklimat Pendidikan Pengundi (VET) bersama Universiti Teknologi MARA (UITM) Cawangan Selangor\, Kampus Dengkil \nTARIKH : 2 April 2026 (Khamis) \nMASA : 8.00 mlm –  10.30 mlm \nTEMPAT : Bilik Kuliah 1. UiTM Dengkil \nBIL. PESERTA : 300 orang \nPENCERAMAH : Pn. Nomi Juliana binti Mohd Redzuan Min \n 
URL:https://votereducation.spr.gov.my/event/taklimat-pengenalan-asas-kesedaran-mengundi-kepada-pelajar-pusat-asasi-cawangan-selangor-kampus-dengkil/
CATEGORIES:Pendidikan Pengundi
END:VEVENT
END:VCALENDAR